Workbook

Sheet Cover_Sheet
B12: MicrogridCreator (MgC) input sheet
A18: Background: | B18: MgC is a tool that supports planners and operators of microgrids / decentralized energy systems in the design phase of the project. The usage of the MgC is not restricted to only new installations, but is meant for system expansion as well. Our tool calculates the best system setup (i.e. the optimal combination of available technologies, their size, and operation), achieving the highest KPI scores, within the given technical and economical frame.
A27: Scope: | B27: Technologies: This Excel sheet contains information and parameters for several technologies, that we can currently simulate in our tool. Different technology can be selected, by means of drop down lists, marked in green. Each technology consists of a set of economical and technical parameters. Once a specific technology is selected, all pertinent fields will be automaticaly filled with default values from the case study. The user can manually edit any field to input custom data. Extra technologies can be added, by simply copying existing columns and pasting them in blank ones. Note: For the parameters "OPEX (w/o fuel)" and "Self discharging ratio" the unit "€/a" was included as default. Those units can be changed at once via the dedicated drop-down list. Whenever the user wants to include custom values for certaing fields, he/she should also provide the required unit, if this is different from the default one. Resources: This sheet contains data related to the costs of different resources, including electricity tariffs. As in the case of "Tecnologies", default values are provided, where suitable.
A47: Legend: | C47: Select the desired item from the drop down list
B48: - | C48: Leave those cells empty
B50: Preferred currency | C50: € | D50: Note: All the default values are available in EUR only
A52: Disclaimer: | B52: Please be aware that this file includes just a small fraction of the input parameters that can be input into the MgC. For user convenience, we will undergo some assumptions while processing the data he input in the sheet.

Sheet Technologies
A1: Technology | D1: Generator - GN | E1: Photovoltaic System - PV | F1: Wind Turbine - WT | G1: Lead Acid Battery - B2 | H1: Select
A2: Economical parameters | C2: Unit
A3: CAPEX | B3: unit | D3: =IF($D$1=Hide!$D$2,Hide!D3,IF($D$1=Hide!$E$2,Hide!E3,IF($D$1=Hide!$F$2,Hide!F3,IF($D$1=Hide!$G$2,Hide!G3,IF($D$1=Hide!$H$2,Hide!H3,IF($D$1=Hide!$I$2,Hide!I3,IF($D$1=Hide!$J$2,Hide!J3,IF($D$1=Hide!$N$2,Hide!N3,IF($D$1=Hide!$O$2,Hide!O3,IF($D$1=Hide!$P$2,Hide!P3,IF($D$1=Hide!$Q$2,Hide!Q3,IF($D$1=Hide!$U$2,Hide!U3,IF($D$1=Hide!$V$2,Hide!V3,"N/A"))))))))))))) -> €/kW | E3: =IF($E$1=Hide!$D$2,Hide!D3,IF($E$1=Hide!$E$2,Hide!E3,IF($E$1=Hide!$F$2,Hide!F3,IF($E$1=Hide!$G$2,Hide!G3,IF($E$1=Hide!$H$2,Hide!H3,IF($E$1=Hide!$I$2,Hide!I3,IF($E$1=Hide!$J$2,Hide!J3,IF($E$1=Hide!$N$2,Hide!N3,IF($E$1=Hide!$O$2,Hide!O3,IF($E$1=Hide!$P$2,Hide!P3,IF($E$1=Hide!$Q$2,Hide!Q3,IF($E$1=Hide!$U$2,Hide!U3,IF($E$1=Hide!$V$2,Hide!V3,"N/A"))))))))))))) -> €/kW | F3: =IF($F$1=Hide!$D$2,Hide!D3,IF($F$1=Hide!$E$2,Hide!E3,IF($F$1=Hide!$F$2,Hide!F3,IF($F$1=Hide!$G$2,Hide!G3,IF($F$1=Hide!$H$2,Hide!H3,IF($F$1=Hide!$I$2,Hide!I3,IF($F$1=Hide!$J$2,Hide!J3,IF($F$1=Hide!$N$2,Hide!N3,IF($F$1=Hide!$O$2,Hide!O3,IF($F$1=Hide!$P$2,Hide!P3,IF($F$1=Hide!$Q$2,Hide!Q3,IF($F$1=Hide!$U$2,Hide!U3,IF($F$1=Hide!$V$2,Hide!V3,"N/A"))))))))))))) -> €/kW | G3: =IF($G$1=Hide!$D$2,Hide!D3,IF($G$1=Hide!$E$2,Hide!E3,IF($G$1=Hide!$F$2,Hide!F3,IF($G$1=Hide!$G$2,Hide!G3,IF($G$1=Hide!$H$2,Hide!H3,IF($G$1=Hide!$I$2,Hide!I3,IF($G$1=Hide!$J$2,Hide!J3,IF($G$1=Hide!$N$2,Hide!N3,IF($G$1=Hide!$O$2,Hide!O3,IF($G$1=Hide!$P$2,Hide!P3,IF($G$1=Hide!$Q$2,Hide!Q3,IF($G$1=Hide!$U$2,Hide!U3,IF($G$1=Hide!$V$2,Hide!V3,"N/A"))))))))))))) -> €/kWh | H3: =IF($H$1=Hide!$D$2,Hide!D3,IF($H$1=Hide!$E$2,Hide!E3,IF($H$1=Hide!$F$2,Hide!F3,IF($H$1=Hide!$G$2,Hide!G3,IF($H$1=Hide!$H$2,Hide!H3,IF($H$1=Hide!$I$2,Hide!I3,IF($H$1=Hide!$J$2,Hide!J3,IF($H$1=Hide!$N$2,Hide!N3,IF($H$1=Hide!$O$2,Hide!O3,IF($H$1=Hide!$P$2,Hide!P3,IF($H$1=Hide!$Q$2,Hide!Q3,IF($H$1=Hide!$U$2,Hide!U3,IF($H$1=Hide!$V$2,Hide!V3,"N/A"))))))))))))) -> N/A
B4: value | D4: =IF($D$1=Hide!$D$2,Hide!D4,IF($D$1=Hide!$E$2,Hide!E4,IF($D$1=Hide!$F$2,Hide!F4,IF($D$1=Hide!$G$2,Hide!G4,IF($D$1=Hide!$H$2,Hide!H4,IF($D$1=Hide!$I$2,Hide!I4,IF($D$1=Hide!$J$2,Hide!J4,IF($D$1=Hide!$N$2,Hide!N4,IF($D$1=Hide!$O$2,Hide!O4,IF($D$1=Hide!$P$2,Hide!P4,IF($D$1=Hide!$Q$2,Hide!Q4,IF($D$1=Hide!$U$2,Hide!U4,IF($D$1=Hide!$V$2,Hide!V4,"N/A"))))))))))))) -> 300 | E4: =IF($E$1=Hide!$D$2,Hide!D4,IF($E$1=Hide!$E$2,Hide!E4,IF($E$1=Hide!$F$2,Hide!F4,IF($E$1=Hide!$G$2,Hide!G4,IF($E$1=Hide!$H$2,Hide!H4,IF($E$1=Hide!$I$2,Hide!I4,IF($E$1=Hide!$J$2,Hide!J4,IF($E$1=Hide!$N$2,Hide!N4,IF($E$1=Hide!$O$2,Hide!O4,IF($E$1=Hide!$P$2,Hide!P4,IF($E$1=Hide!$Q$2,Hide!Q4,IF($E$1=Hide!$U$2,Hide!U4,IF($E$1=Hide!$V$2,Hide!V4,"N/A"))))))))))))) -> 1000 | F4: =IF($F$1=Hide!$D$2,Hide!D4,IF($F$1=Hide!$E$2,Hide!E4,IF($F$1=Hide!$F$2,Hide!F4,IF($F$1=Hide!$G$2,Hide!G4,IF($F$1=Hide!$H$2,Hide!H4,IF($F$1=Hide!$I$2,Hide!I4,IF($F$1=Hide!$J$2,Hide!J4,IF($F$1=Hide!$N$2,Hide!N4,IF($F$1=Hide!$O$2,Hide!O4,IF($F$1=Hide!$P$2,Hide!P4,IF($F$1=Hide!$Q$2,Hide!Q4,IF($F$1=Hide!$U$2,Hide!U4,IF($F$1=Hide!$V$2,Hide!V4,"N/A"))))))))))))) -> 900 | G4: =IF($G$1=Hide!$D$2,Hide!D4,IF($G$1=Hide!$E$2,Hide!E4,IF($G$1=Hide!$F$2,Hide!F4,IF($G$1=Hide!$G$2,Hide!G4,IF($G$1=Hide!$H$2,Hide!H4,IF($G$1=Hide!$I$2,Hide!I4,IF($G$1=Hide!$J$2,Hide!J4,IF($G$1=Hide!$N$2,Hide!N4,IF($G$1=Hide!$O$2,Hide!O4,IF($G$1=Hide!$P$2,Hide!P4,IF($G$1=Hide!$Q$2,Hide!Q4,IF($G$1=Hide!$U$2,Hide!U4,IF($G$1=Hide!$V$2,Hide!V4,"N/A"))))))))))))) -> 150 | H4: =IF($H$1=Hide!$D$2,Hide!D4,IF($H$1=Hide!$E$2,Hide!E4,IF($H$1=Hide!$F$2,Hide!F4,IF($H$1=Hide!$G$2,Hide!G4,IF($H$1=Hide!$H$2,Hide!H4,IF($H$1=Hide!$I$2,Hide!I4,IF($H$1=Hide!$J$2,Hide!J4,IF($H$1=Hide!$N$2,Hide!N4,IF($H$1=Hide!$O$2,Hide!O4,IF($H$1=Hide!$P$2,Hide!P4,IF($H$1=Hide!$Q$2,Hide!Q4,IF($H$1=Hide!$U$2,Hide!U4,IF($H$1=Hide!$V$2,Hide!V4,"N/A"))))))))))))) -> N/A
A5: OPEX (w/o fuel) | C5: €/a | D5: =IF($D$1=Hide!$D$2,Hide!D5,IF($D$1=Hide!$E$2,Hide!E5,IF($D$1=Hide!$F$2,Hide!F5,IF($D$1=Hide!$G$2,Hide!G5,IF($D$1=Hide!$H$2,Hide!H5,IF($D$1=Hide!$I$2,Hide!I5,IF($D$1=Hide!$J$2,Hide!J5,IF($D$1=Hide!$N$2,Hide!N5,IF($D$1=Hide!$O$2,Hide!O5,IF($D$1=Hide!$P$2,Hide!P5,IF($D$1=Hide!$Q$2,Hide!Q5,IF($D$1=Hide!$U$2,Hide!U5,IF($D$1=Hide!$V$2,Hide!V5,"N/A"))))))))))))) -> 24.6 | E5: =IF($E$1=Hide!$D$2,Hide!D5,IF($E$1=Hide!$E$2,Hide!E5,IF($E$1=Hide!$F$2,Hide!F5,IF($E$1=Hide!$G$2,Hide!G5,IF($E$1=Hide!$H$2,Hide!H5,IF($E$1=Hide!$I$2,Hide!I5,IF($E$1=Hide!$J$2,Hide!J5,IF($E$1=Hide!$N$2,Hide!N5,IF($E$1=Hide!$O$2,Hide!O5,IF($E$1=Hide!$P$2,Hide!P5,IF($E$1=Hide!$Q$2,Hide!Q5,IF($E$1=Hide!$U$2,Hide!U5,IF($E$1=Hide!$V$2,Hide!V5,"N/A"))))))))))))) -> 64 | F5: =IF($F$1=Hide!$D$2,Hide!D5,IF($F$1=Hide!$E$2,Hide!E5,IF($F$1=Hide!$F$2,Hide!F5,IF($F$1=Hide!$G$2,Hide!G5,IF($F$1=Hide!$H$2,Hide!H5,IF($F$1=Hide!$I$2,Hide!I5,IF($F$1=Hide!$J$2,Hide!J5,IF($F$1=Hide!$N$2,Hide!N5,IF($F$1=Hide!$O$2,Hide!O5,IF($F$1=Hide!$P$2,Hide!P5,IF($F$1=Hide!$Q$2,Hide!Q5,IF($F$1=Hide!$U$2,Hide!U5,IF($F$1=Hide!$V$2,Hide!V5,"N/A"))))))))))))) -> 30 | G5: =IF($G$1=Hide!$D$2,Hide!D5,IF($G$1=Hide!$E$2,Hide!E5,IF($G$1=Hide!$F$2,Hide!F5,IF($G$1=Hide!$G$2,Hide!G5,IF($G$1=Hide!$H$2,Hide!H5,IF($G$1=Hide!$I$2,Hide!I5,IF($G$1=Hide!$J$2,Hide!J5,IF($G$1=Hide!$N$2,Hide!N5,IF($G$1=Hide!$O$2,Hide!O5,IF($G$1=Hide!$P$2,Hide!P5,IF($G$1=Hide!$Q$2,Hide!Q5,IF($G$1=Hide!$U$2,Hide!U5,IF($G$1=Hide!$V$2,Hide!V5,"N/A"))))))))))))) -> 13 | H5: =IF($H$1=Hide!$D$2,Hide!D5,IF($H$1=Hide!$E$2,Hide!E5,IF($H$1=Hide!$F$2,Hide!F5,IF($H$1=Hide!$G$2,Hide!G5,IF($H$1=Hide!$H$2,Hide!H5,IF($H$1=Hide!$I$2,Hide!I5,IF($H$1=Hide!$J$2,Hide!J5,IF($H$1=Hide!$N$2,Hide!N5,IF($H$1=Hide!$O$2,Hide!O5,IF($H$1=Hide!$P$2,Hide!P5,IF($H$1=Hide!$Q$2,Hide!Q5,IF($H$1=Hide!$U$2,Hide!U5,IF($H$1=Hide!$V$2,Hide!V5,"N/A"))))))))))))) -> N/A
A6: Estimated life time | C6: a | D6: =IF($D$1=Hide!$D$2,Hide!D8,IF($D$1=Hide!$E$2,Hide!E8,IF($D$1=Hide!$F$2,Hide!F8,IF($D$1=Hide!$G$2,Hide!G8,IF($D$1=Hide!$H$2,Hide!H8,IF($D$1=Hide!$I$2,Hide!I8,IF($D$1=Hide!$J$2,Hide!J8,IF($D$1=Hide!$N$2,Hide!N8,IF($D$1=Hide!$O$2,Hide!O8,IF($D$1=Hide!$P$2,Hide!P8,IF($D$1=Hide!$Q$2,Hide!Q8,IF($D$1=Hide!$U$2,Hide!U8,IF($D$1=Hide!$V$2,Hide!V8,"N/A"))))))))))))) -> 20 | E6: =IF($E$1=Hide!$D$2,Hide!D8,IF($E$1=Hide!$E$2,Hide!E8,IF($E$1=Hide!$F$2,Hide!F8,IF($E$1=Hide!$G$2,Hide!G8,IF($E$1=Hide!$H$2,Hide!H8,IF($E$1=Hide!$I$2,Hide!I8,IF($E$1=Hide!$J$2,Hide!J8,IF($E$1=Hide!$N$2,Hide!N8,IF($E$1=Hide!$O$2,Hide!O8,IF($E$1=Hide!$P$2,Hide!P8,IF($E$1=Hide!$Q$2,Hide!Q8,IF($E$1=Hide!$U$2,Hide!U8,IF($E$1=Hide!$V$2,Hide!V8,"N/A"))))))))))))) -> 20 | F6: =IF($F$1=Hide!$D$2,Hide!D8,IF($F$1=Hide!$E$2,Hide!E8,IF($F$1=Hide!$F$2,Hide!F8,IF($F$1=Hide!$G$2,Hide!G8,IF($F$1=Hide!$H$2,Hide!H8,IF($F$1=Hide!$I$2,Hide!I8,IF($F$1=Hide!$J$2,Hide!J8,IF($F$1=Hide!$N$2,Hide!N8,IF($F$1=Hide!$O$2,Hide!O8,IF($F$1=Hide!$P$2,Hide!P8,IF($F$1=Hide!$Q$2,Hide!Q8,IF($F$1=Hide!$U$2,Hide!U8,IF($F$1=Hide!$V$2,Hide!V8,"N/A"))))))))))))) -> 20 | G6: =IF($G$1=Hide!$D$2,Hide!D8,IF($G$1=Hide!$E$2,Hide!E8,IF($G$1=Hide!$F$2,Hide!F8,IF($G$1=Hide!$G$2,Hide!G8,IF($G$1=Hide!$H$2,Hide!H8,IF($G$1=Hide!$I$2,Hide!I8,IF($G$1=Hide!$J$2,Hide!J8,IF($G$1=Hide!$N$2,Hide!N8,IF($G$1=Hide!$O$2,Hide!O8,IF($G$1=Hide!$P$2,Hide!P8,IF($G$1=Hide!$Q$2,Hide!Q8,IF($G$1=Hide!$U$2,Hide!U8,IF($G$1=Hide!$V$2,Hide!V8,"N/A"))))))))))))) -> 13 | H6: =IF($H$1=Hide!$D$2,Hide!D8,IF($H$1=Hide!$E$2,Hide!E8,IF($H$1=Hide!$F$2,Hide!F8,IF($H$1=Hide!$G$2,Hide!G8,IF($H$1=Hide!$H$2,Hide!H8,IF($H$1=Hide!$I$2,Hide!I8,IF($H$1=Hide!$J$2,Hide!J8,IF($H$1=Hide!$N$2,Hide!N8,IF($H$1=Hide!$O$2,Hide!O8,IF($H$1=Hide!$P$2,Hide!P8,IF($H$1=Hide!$Q$2,Hide!Q8,IF($H$1=Hide!$U$2,Hide!U8,IF($H$1=Hide!$V$2,Hide!V8,"N/A"))))))))))))) -> N/A
A7: Financing | B7: debt share | C7: – | D7: =IF($D$1=Hide!$D$2,Hide!D9,IF($D$1=Hide!$E$2,Hide!E9,IF($D$1=Hide!$F$2,Hide!F9,IF($D$1=Hide!$G$2,Hide!G9,IF($D$1=Hide!$H$2,Hide!H9,IF($D$1=Hide!$I$2,Hide!I9,IF($D$1=Hide!$J$2,Hide!J9,IF($D$1=Hide!$N$2,Hide!N9,IF($D$1=Hide!$O$2,Hide!O9,IF($D$1=Hide!$P$2,Hide!P9,IF($D$1=Hide!$Q$2,Hide!Q9,IF($D$1=Hide!$U$2,Hide!U9,IF($D$1=Hide!$V$2,Hide!V9,"N/A"))))))))))))) -> 0 | E7: =IF($E$1=Hide!$D$2,Hide!D9,IF($E$1=Hide!$E$2,Hide!E9,IF($E$1=Hide!$F$2,Hide!F9,IF($E$1=Hide!$G$2,Hide!G9,IF($E$1=Hide!$H$2,Hide!H9,IF($E$1=Hide!$I$2,Hide!I9,IF($E$1=Hide!$J$2,Hide!J9,IF($E$1=Hide!$N$2,Hide!N9,IF($E$1=Hide!$O$2,Hide!O9,IF($E$1=Hide!$P$2,Hide!P9,IF($E$1=Hide!$Q$2,Hide!Q9,IF($E$1=Hide!$U$2,Hide!U9,IF($E$1=Hide!$V$2,Hide!V9,"N/A"))))))))))))) -> 0 | F7: =IF($F$1=Hide!$D$2,Hide!D9,IF($F$1=Hide!$E$2,Hide!E9,IF($F$1=Hide!$F$2,Hide!F9,IF($F$1=Hide!$G$2,Hide!G9,IF($F$1=Hide!$H$2,Hide!H9,IF($F$1=Hide!$I$2,Hide!I9,IF($F$1=Hide!$J$2,Hide!J9,IF($F$1=Hide!$N$2,Hide!N9,IF($F$1=Hide!$O$2,Hide!O9,IF($F$1=Hide!$P$2,Hide!P9,IF($F$1=Hide!$Q$2,Hide!Q9,IF($F$1=Hide!$U$2,Hide!U9,IF($F$1=Hide!$V$2,Hide!V9,"N/A"))))))))))))) -> 0 | G7: =IF($G$1=Hide!$D$2,Hide!D9,IF($G$1=Hide!$E$2,Hide!E9,IF($G$1=Hide!$F$2,Hide!F9,IF($G$1=Hide!$G$2,Hide!G9,IF($G$1=Hide!$H$2,Hide!H9,IF($G$1=Hide!$I$2,Hide!I9,IF($G$1=Hide!$J$2,Hide!J9,IF($G$1=Hide!$N$2,Hide!N9,IF($G$1=Hide!$O$2,Hide!O9,IF($G$1=Hide!$P$2,Hide!P9,IF($G$1=Hide!$Q$2,Hide!Q9,IF($G$1=Hide!$U$2,Hide!U9,IF($G$1=Hide!$V$2,Hide!V9,"N/A"))))))))))))) -> 0 | H7: =IF($H$1=Hide!$D$2,Hide!D9,IF($H$1=Hide!$E$2,Hide!E9,IF($H$1=Hide!$F$2,Hide!F9,IF($H$1=Hide!$G$2,Hide!G9,IF($H$1=Hide!$H$2,Hide!H9,IF($H$1=Hide!$I$2,Hide!I9,IF($H$1=Hide!$J$2,Hide!J9,IF($H$1=Hide!$N$2,Hide!N9,IF($H$1=Hide!$O$2,Hide!O9,IF($H$1=Hide!$P$2,Hide!P9,IF($H$1=Hide!$Q$2,Hide!Q9,IF($H$1=Hide!$U$2,Hide!U9,IF($H$1=Hide!$V$2,Hide!V9,"N/A"))))))))))))) -> N/A
B8: debt term | C8: a | D8: =IF($D$1=Hide!$D$2,Hide!D10,IF($D$1=Hide!$E$2,Hide!E10,IF($D$1=Hide!$F$2,Hide!F10,IF($D$1=Hide!$G$2,Hide!G10,IF($D$1=Hide!$H$2,Hide!H10,IF($D$1=Hide!$I$2,Hide!I10,IF($D$1=Hide!$J$2,Hide!J10,IF($D$1=Hide!$N$2,Hide!N10,IF($D$1=Hide!$O$2,Hide!O10,IF($D$1=Hide!$P$2,Hide!P10,IF($D$1=Hide!$Q$2,Hide!Q10,IF($D$1=Hide!$U$2,Hide!U10,IF($D$1=Hide!$V$2,Hide!V10,"N/A"))))))))))))) -> 15 | E8: =IF($E$1=Hide!$D$2,Hide!D10,IF($E$1=Hide!$E$2,Hide!E10,IF($E$1=Hide!$F$2,Hide!F10,IF($E$1=Hide!$G$2,Hide!G10,IF($E$1=Hide!$H$2,Hide!H10,IF($E$1=Hide!$I$2,Hide!I10,IF($E$1=Hide!$J$2,Hide!J10,IF($E$1=Hide!$N$2,Hide!N10,IF($E$1=Hide!$O$2,Hide!O10,IF($E$1=Hide!$P$2,Hide!P10,IF($E$1=Hide!$Q$2,Hide!Q10,IF($E$1=Hide!$U$2,Hide!U10,IF($E$1=Hide!$V$2,Hide!V10,"N/A"))))))))))))) -> 15 | F8: =IF($F$1=Hide!$D$2,Hide!D10,IF($F$1=Hide!$E$2,Hide!E10,IF($F$1=Hide!$F$2,Hide!F10,IF($F$1=Hide!$G$2,Hide!G10,IF($F$1=Hide!$H$2,Hide!H10,IF($F$1=Hide!$I$2,Hide!I10,IF($F$1=Hide!$J$2,Hide!J10,IF($F$1=Hide!$N$2,Hide!N10,IF($F$1=Hide!$O$2,Hide!O10,IF($F$1=Hide!$P$2,Hide!P10,IF($F$1=Hide!$Q$2,Hide!Q10,IF($F$1=Hide!$U$2,Hide!U10,IF($F$1=Hide!$V$2,Hide!V10,"N/A"))))))))))))) -> 15 | G8: =IF($G$1=Hide!$D$2,Hide!D10,IF($G$1=Hide!$E$2,Hide!E10,IF($G$1=Hide!$F$2,Hide!F10,IF($G$1=Hide!$G$2,Hide!G10,IF($G$1=Hide!$H$2,Hide!H10,IF($G$1=Hide!$I$2,Hide!I10,IF($G$1=Hide!$J$2,Hide!J10,IF($G$1=Hide!$N$2,Hide!N10,IF($G$1=Hide!$O$2,Hide!O10,IF($G$1=Hide!$P$2,Hide!P10,IF($G$1=Hide!$Q$2,Hide!Q10,IF($G$1=Hide!$U$2,Hide!U10,IF($G$1=Hide!$V$2,Hide!V10,"N/A"))))))))))))) -> 10 | H8: =IF($H$1=Hide!$D$2,Hide!D10,IF($H$1=Hide!$E$2,Hide!E10,IF($H$1=Hide!$F$2,Hide!F10,IF($H$1=Hide!$G$2,Hide!G10,IF($H$1=Hide!$H$2,Hide!H10,IF($H$1=Hide!$I$2,Hide!I10,IF($H$1=Hide!$J$2,Hide!J10,IF($H$1=Hide!$N$2,Hide!N10,IF($H$1=Hide!$O$2,Hide!O10,IF($H$1=Hide!$P$2,Hide!P10,IF($H$1=Hide!$Q$2,Hide!Q10,IF($H$1=Hide!$U$2,Hide!U10,IF($H$1=Hide!$V$2,Hide!V10,"N/A"))))))))))))) -> N/A
A9: Technical parameters
A10: Nominal capacity (electrical or thermal) | B10: unit | D10: =IF($D$1=Hide!$D$2,Hide!D13,IF($D$1=Hide!$E$2,Hide!E13,IF($D$1=Hide!$F$2,Hide!F13,IF($D$1=Hide!$G$2,Hide!G13,IF($D$1=Hide!$H$2,Hide!H13,IF($D$1=Hide!$I$2,Hide!I13,IF($D$1=Hide!$J$2,Hide!J13,IF($D$1=Hide!$N$2,Hide!N13,IF($D$1=Hide!$O$2,Hide!O13,IF($D$1=Hide!$P$2,Hide!P13,IF($D$1=Hide!$Q$2,Hide!Q13,IF($D$1=Hide!$U$2,Hide!U13,IF($D$1=Hide!$V$2,Hide!V13,"N/A"))))))))))))) -> kW | E10: =IF($E$1=Hide!$D$2,Hide!D13,IF($E$1=Hide!$E$2,Hide!E13,IF($E$1=Hide!$F$2,Hide!F13,IF($E$1=Hide!$G$2,Hide!G13,IF($E$1=Hide!$H$2,Hide!H13,IF($E$1=Hide!$I$2,Hide!I13,IF($E$1=Hide!$J$2,Hide!J13,IF($E$1=Hide!$N$2,Hide!N13,IF($E$1=Hide!$O$2,Hide!O13,IF($E$1=Hide!$P$2,Hide!P13,IF($E$1=Hide!$Q$2,Hide!Q13,IF($E$1=Hide!$U$2,Hide!U13,IF($E$1=Hide!$V$2,Hide!V13,"N/A"))))))))))))) -> kW | F10: =IF($F$1=Hide!$D$2,Hide!D13,IF($F$1=Hide!$E$2,Hide!E13,IF($F$1=Hide!$F$2,Hide!F13,IF($F$1=Hide!$G$2,Hide!G13,IF($F$1=Hide!$H$2,Hide!H13,IF($F$1=Hide!$I$2,Hide!I13,IF($F$1=Hide!$J$2,Hide!J13,IF($F$1=Hide!$N$2,Hide!N13,IF($F$1=Hide!$O$2,Hide!O13,IF($F$1=Hide!$P$2,Hide!P13,IF($F$1=Hide!$Q$2,Hide!Q13,IF($F$1=Hide!$U$2,Hide!U13,IF($F$1=Hide!$V$2,Hide!V13,"N/A"))))))))))))) -> kW | G10: =IF($G$1=Hide!$D$2,Hide!D13,IF($G$1=Hide!$E$2,Hide!E13,IF($G$1=Hide!$F$2,Hide!F13,IF($G$1=Hide!$G$2,Hide!G13,IF($G$1=Hide!$H$2,Hide!H13,IF($G$1=Hide!$I$2,Hide!I13,IF($G$1=Hide!$J$2,Hide!J13,IF($G$1=Hide!$N$2,Hide!N13,IF($G$1=Hide!$O$2,Hide!O13,IF($G$1=Hide!$P$2,Hide!P13,IF($G$1=Hide!$Q$2,Hide!Q13,IF($G$1=Hide!$U$2,Hide!U13,IF($G$1=Hide!$V$2,Hide!V13,"N/A"))))))))))))) -> kWh | H10: =IF($H$1=Hide!$D$2,Hide!D13,IF($H$1=Hide!$E$2,Hide!E13,IF($H$1=Hide!$F$2,Hide!F13,IF($H$1=Hide!$G$2,Hide!G13,IF($H$1=Hide!$H$2,Hide!H13,IF($H$1=Hide!$I$2,Hide!I13,IF($H$1=Hide!$J$2,Hide!J13,IF($H$1=Hide!$N$2,Hide!N13,IF($H$1=Hide!$O$2,Hide!O13,IF($H$1=Hide!$P$2,Hide!P13,IF($H$1=Hide!$Q$2,Hide!Q13,IF($H$1=Hide!$U$2,Hide!U13,IF($H$1=Hide!$V$2,Hide!V13,"N/A"))))))))))))) -> N/A
B11: maximum value | D11: =IF($D$1=Hide!$D$2,Hide!D14,IF($D$1=Hide!$E$2,Hide!E14,IF($D$1=Hide!$F$2,Hide!F14,IF($D$1=Hide!$G$2,Hide!G14,IF($D$1=Hide!$H$2,Hide!H14,IF($D$1=Hide!$I$2,Hide!I14,IF($D$1=Hide!$J$2,Hide!J14,IF($D$1=Hide!$N$2,Hide!N14,IF($D$1=Hide!$O$2,Hide!O14,IF($D$1=Hide!$P$2,Hide!P14,IF($D$1=Hide!$Q$2,Hide!Q14,IF($D$1=Hide!$U$2,Hide!U14,IF($D$1=Hide!$V$2,Hide!V14,"N/A"))))))))))))) -> 1000 | E11: =IF($E$1=Hide!$D$2,Hide!D14,IF($E$1=Hide!$E$2,Hide!E14,IF($E$1=Hide!$F$2,Hide!F14,IF($E$1=Hide!$G$2,Hide!G14,IF($E$1=Hide!$H$2,Hide!H14,IF($E$1=Hide!$I$2,Hide!I14,IF($E$1=Hide!$J$2,Hide!J14,IF($E$1=Hide!$N$2,Hide!N14,IF($E$1=Hide!$O$2,Hide!O14,IF($E$1=Hide!$P$2,Hide!P14,IF($E$1=Hide!$Q$2,Hide!Q14,IF($E$1=Hide!$U$2,Hide!U14,IF($E$1=Hide!$V$2,Hide!V14,"N/A"))))))))))))) -> 1000 | F11: =IF($F$1=Hide!$D$2,Hide!D14,IF($F$1=Hide!$E$2,Hide!E14,IF($F$1=Hide!$F$2,Hide!F14,IF($F$1=Hide!$G$2,Hide!G14,IF($F$1=Hide!$H$2,Hide!H14,IF($F$1=Hide!$I$2,Hide!I14,IF($F$1=Hide!$J$2,Hide!J14,IF($F$1=Hide!$N$2,Hide!N14,IF($F$1=Hide!$O$2,Hide!O14,IF($F$1=Hide!$P$2,Hide!P14,IF($F$1=Hide!$Q$2,Hide!Q14,IF($F$1=Hide!$U$2,Hide!U14,IF($F$1=Hide!$V$2,Hide!V14,"N/A"))))))))))))) -> 1000 | G11: =IF($G$1=Hide!$D$2,Hide!D14,IF($G$1=Hide!$E$2,Hide!E14,IF($G$1=Hide!$F$2,Hide!F14,IF($G$1=Hide!$G$2,Hide!G14,IF($G$1=Hide!$H$2,Hide!H14,IF($G$1=Hide!$I$2,Hide!I14,IF($G$1=Hide!$J$2,Hide!J14,IF($G$1=Hide!$N$2,Hide!N14,IF($G$1=Hide!$O$2,Hide!O14,IF($G$1=Hide!$P$2,Hide!P14,IF($G$1=Hide!$Q$2,Hide!Q14,IF($G$1=Hide!$U$2,Hide!U14,IF($G$1=Hide!$V$2,Hide!V14,"N/A"))))))))))))) -> 1000 | H11: =IF($H$1=Hide!$D$2,Hide!D14,IF($H$1=Hide!$E$2,Hide!E14,IF($H$1=Hide!$F$2,Hide!F14,IF($H$1=Hide!$G$2,Hide!G14,IF($H$1=Hide!$H$2,Hide!H14,IF($H$1=Hide!$I$2,Hide!I14,IF($H$1=Hide!$J$2,Hide!J14,IF($H$1=Hide!$N$2,Hide!N14,IF($H$1=Hide!$O$2,Hide!O14,IF($H$1=Hide!$P$2,Hide!P14,IF($H$1=Hide!$Q$2,Hide!Q14,IF($H$1=Hide!$U$2,Hide!U14,IF($H$1=Hide!$V$2,Hide!V14,"N/A"))))))))))))) -> N/A
B12: minimum value | C12: kW | D12: =IF($D$1=Hide!$D$2,Hide!D15,IF($D$1=Hide!$E$2,Hide!E15,IF($D$1=Hide!$F$2,Hide!F15,IF($D$1=Hide!$G$2,Hide!G15,IF($D$1=Hide!$H$2,Hide!H15,IF($D$1=Hide!$I$2,Hide!I15,IF($D$1=Hide!$J$2,Hide!J15,IF($D$1=Hide!$N$2,Hide!N15,IF($D$1=Hide!$O$2,Hide!O15,IF($D$1=Hide!$P$2,Hide!P15,IF($D$1=Hide!$Q$2,Hide!Q15,IF($D$1=Hide!$U$2,Hide!U15,IF($D$1=Hide!$V$2,Hide!V15,"N/A"))))))))))))) -> 0 | E12: =IF($E$1=Hide!$D$2,Hide!D15,IF($E$1=Hide!$E$2,Hide!E15,IF($E$1=Hide!$F$2,Hide!F15,IF($E$1=Hide!$G$2,Hide!G15,IF($E$1=Hide!$H$2,Hide!H15,IF($E$1=Hide!$I$2,Hide!I15,IF($E$1=Hide!$J$2,Hide!J15,IF($E$1=Hide!$N$2,Hide!N15,IF($E$1=Hide!$O$2,Hide!O15,IF($E$1=Hide!$P$2,Hide!P15,IF($E$1=Hide!$Q$2,Hide!Q15,IF($E$1=Hide!$U$2,Hide!U15,IF($E$1=Hide!$V$2,Hide!V15,"N/A"))))))))))))) -> 0 | F12: =IF($F$1=Hide!$D$2,Hide!D15,IF($F$1=Hide!$E$2,Hide!E15,IF($F$1=Hide!$F$2,Hide!F15,IF($F$1=Hide!$G$2,Hide!G15,IF($F$1=Hide!$H$2,Hide!H15,IF($F$1=Hide!$I$2,Hide!I15,IF($F$1=Hide!$J$2,Hide!J15,IF($F$1=Hide!$N$2,Hide!N15,IF($F$1=Hide!$O$2,Hide!O15,IF($F$1=Hide!$P$2,Hide!P15,IF($F$1=Hide!$Q$2,Hide!Q15,IF($F$1=Hide!$U$2,Hide!U15,IF($F$1=Hide!$V$2,Hide!V15,"N/A"))))))))))))) -> 0 | G12: =IF($G$1=Hide!$D$2,Hide!D15,IF($G$1=Hide!$E$2,Hide!E15,IF($G$1=Hide!$F$2,Hide!F15,IF($G$1=Hide!$G$2,Hide!G15,IF($G$1=Hide!$H$2,Hide!H15,IF($G$1=Hide!$I$2,Hide!I15,IF($G$1=Hide!$J$2,Hide!J15,IF($G$1=Hide!$N$2,Hide!N15,IF($G$1=Hide!$O$2,Hide!O15,IF($G$1=Hide!$P$2,Hide!P15,IF($G$1=Hide!$Q$2,Hide!Q15,IF($G$1=Hide!$U$2,Hide!U15,IF($G$1=Hide!$V$2,Hide!V15,"N/A"))))))))))))) -> 0 | H12: =IF($H$1=Hide!$D$2,Hide!D15,IF($H$1=Hide!$E$2,Hide!E15,IF($H$1=Hide!$F$2,Hide!F15,IF($H$1=Hide!$G$2,Hide!G15,IF($H$1=Hide!$H$2,Hide!H15,IF($H$1=Hide!$I$2,Hide!I15,IF($H$1=Hide!$J$2,Hide!J15,IF($H$1=Hide!$N$2,Hide!N15,IF($H$1=Hide!$O$2,Hide!O15,IF($H$1=Hide!$P$2,Hide!P15,IF($H$1=Hide!$Q$2,Hide!Q15,IF($H$1=Hide!$U$2,Hide!U15,IF($H$1=Hide!$V$2,Hide!V15,"N/A"))))))))))))) -> N/A
A13: Operational power | B13: minimum value | C13: kW | D13: =IF($D$1=Hide!$D$2,Hide!D16,IF($D$1=Hide!$E$2,Hide!E16,IF($D$1=Hide!$F$2,Hide!F16,IF($D$1=Hide!$G$2,Hide!G16,IF($D$1=Hide!$H$2,Hide!H16,IF($D$1=Hide!$I$2,Hide!I16,IF($D$1=Hide!$J$2,Hide!J16,IF($D$1=Hide!$N$2,Hide!N16,IF($D$1=Hide!$O$2,Hide!O16,IF($D$1=Hide!$P$2,Hide!P16,IF($D$1=Hide!$Q$2,Hide!Q16,IF($D$1=Hide!$U$2,Hide!U16,IF($D$1=Hide!$V$2,Hide!V16,"N/A"))))))))))))) -> 0.4 | E13: =IF($E$1=Hide!$D$2,Hide!D16,IF($E$1=Hide!$E$2,Hide!E16,IF($E$1=Hide!$F$2,Hide!F16,IF($E$1=Hide!$G$2,Hide!G16,IF($E$1=Hide!$H$2,Hide!H16,IF($E$1=Hide!$I$2,Hide!I16,IF($E$1=Hide!$J$2,Hide!J16,IF($E$1=Hide!$N$2,Hide!N16,IF($E$1=Hide!$O$2,Hide!O16,IF($E$1=Hide!$P$2,Hide!P16,IF($E$1=Hide!$Q$2,Hide!Q16,IF($E$1=Hide!$U$2,Hide!U16,IF($E$1=Hide!$V$2,Hide!V16,"N/A"))))))))))))) -> - | F13: =IF($F$1=Hide!$D$2,Hide!D16,IF($F$1=Hide!$E$2,Hide!E16,IF($F$1=Hide!$F$2,Hide!F16,IF($F$1=Hide!$G$2,Hide!G16,IF($F$1=Hide!$H$2,Hide!H16,IF($F$1=Hide!$I$2,Hide!I16,IF($F$1=Hide!$J$2,Hide!J16,IF($F$1=Hide!$N$2,Hide!N16,IF($F$1=Hide!$O$2,Hide!O16,IF($F$1=Hide!$P$2,Hide!P16,IF($F$1=Hide!$Q$2,Hide!Q16,IF($F$1=Hide!$U$2,Hide!U16,IF($F$1=Hide!$V$2,Hide!V16,"N/A"))))))))))))) -> - | G13: =IF($G$1=Hide!$D$2,Hide!D16,IF($G$1=Hide!$E$2,Hide!E16,IF($G$1=Hide!$F$2,Hide!F16,IF($G$1=Hide!$G$2,Hide!G16,IF($G$1=Hide!$H$2,Hide!H16,IF($G$1=Hide!$I$2,Hide!I16,IF($G$1=Hide!$J$2,Hide!J16,IF($G$1=Hide!$N$2,Hide!N16,IF($G$1=Hide!$O$2,Hide!O16,IF($G$1=Hide!$P$2,Hide!P16,IF($G$1=Hide!$Q$2,Hide!Q16,IF($G$1=Hide!$U$2,Hide!U16,IF($G$1=Hide!$V$2,Hide!V16,"N/A"))))))))))))) -> 0.5 | H13: =IF($H$1=Hide!$D$2,Hide!D16,IF($H$1=Hide!$E$2,Hide!E16,IF($H$1=Hide!$F$2,Hide!F16,IF($H$1=Hide!$G$2,Hide!G16,IF($H$1=Hide!$H$2,Hide!H16,IF($H$1=Hide!$I$2,Hide!I16,IF($H$1=Hide!$J$2,Hide!J16,IF($H$1=Hide!$N$2,Hide!N16,IF($H$1=Hide!$O$2,Hide!O16,IF($H$1=Hide!$P$2,Hide!P16,IF($H$1=Hide!$Q$2,Hide!Q16,IF($H$1=Hide!$U$2,Hide!U16,IF($H$1=Hide!$V$2,Hide!V16,"N/A"))))))))))))) -> N/A
A14: Conversion efficiency | B14: Conversion to electrical power | C14: % | D14: =IF($D$1=Hide!$D$2,Hide!D17,IF($D$1=Hide!$E$2,Hide!E17,IF($D$1=Hide!$F$2,Hide!F17,IF($D$1=Hide!$G$2,Hide!G17,IF($D$1=Hide!$H$2,Hide!H17,IF($D$1=Hide!$I$2,Hide!I17,IF($D$1=Hide!$J$2,Hide!J17,IF($D$1=Hide!$N$2,Hide!N17,IF($D$1=Hide!$O$2,Hide!O17,IF($D$1=Hide!$P$2,Hide!P17,IF($D$1=Hide!$Q$2,Hide!Q17,IF($D$1=Hide!$U$2,Hide!U17,IF($D$1=Hide!$V$2,Hide!V17,"N/A"))))))))))))) -> 35 | E14: =IF($E$1=Hide!$D$2,Hide!D17,IF($E$1=Hide!$E$2,Hide!E17,IF($E$1=Hide!$F$2,Hide!F17,IF($E$1=Hide!$G$2,Hide!G17,IF($E$1=Hide!$H$2,Hide!H17,IF($E$1=Hide!$I$2,Hide!I17,IF($E$1=Hide!$J$2,Hide!J17,IF($E$1=Hide!$N$2,Hide!N17,IF($E$1=Hide!$O$2,Hide!O17,IF($E$1=Hide!$P$2,Hide!P17,IF($E$1=Hide!$Q$2,Hide!Q17,IF($E$1=Hide!$U$2,Hide!U17,IF($E$1=Hide!$V$2,Hide!V17,"N/A"))))))))))))) -> 15.67 | F14: =IF($F$1=Hide!$D$2,Hide!D17,IF($F$1=Hide!$E$2,Hide!E17,IF($F$1=Hide!$F$2,Hide!F17,IF($F$1=Hide!$G$2,Hide!G17,IF($F$1=Hide!$H$2,Hide!H17,IF($F$1=Hide!$I$2,Hide!I17,IF($F$1=Hide!$J$2,Hide!J17,IF($F$1=Hide!$N$2,Hide!N17,IF($F$1=Hide!$O$2,Hide!O17,IF($F$1=Hide!$P$2,Hide!P17,IF($F$1=Hide!$Q$2,Hide!Q17,IF($F$1=Hide!$U$2,Hide!U17,IF($F$1=Hide!$V$2,Hide!V17,"N/A"))))))))))))) -> 29 | G14: =IF($G$1=Hide!$D$2,Hide!D17,IF($G$1=Hide!$E$2,Hide!E17,IF($G$1=Hide!$F$2,Hide!F17,IF($G$1=Hide!$G$2,Hide!G17,IF($G$1=Hide!$H$2,Hide!H17,IF($G$1=Hide!$I$2,Hide!I17,IF($G$1=Hide!$J$2,Hide!J17,IF($G$1=Hide!$N$2,Hide!N17,IF($G$1=Hide!$O$2,Hide!O17,IF($G$1=Hide!$P$2,Hide!P17,IF($G$1=Hide!$Q$2,Hide!Q17,IF($G$1=Hide!$U$2,Hide!U17,IF($G$1=Hide!$V$2,Hide!V17,"N/A"))))))))))))) -> - | H14: =IF($H$1=Hide!$D$2,Hide!D17,IF($H$1=Hide!$E$2,Hide!E17,IF($H$1=Hide!$F$2,Hide!F17,IF($H$1=Hide!$G$2,Hide!G17,IF($H$1=Hide!$H$2,Hide!H17,IF($H$1=Hide!$I$2,Hide!I17,IF($H$1=Hide!$J$2,Hide!J17,IF($H$1=Hide!$N$2,Hide!N17,IF($H$1=Hide!$O$2,Hide!O17,IF($H$1=Hide!$P$2,Hide!P17,IF($H$1=Hide!$Q$2,Hide!Q17,IF($H$1=Hide!$U$2,Hide!U17,IF($H$1=Hide!$V$2,Hide!V17,"N/A"))))))))))))) -> N/A
B15: Conversion to thermal power | C15: [–] (COP,EER) | D15: =IF($D$1=Hide!$D$2,Hide!D18,IF($D$1=Hide!$E$2,Hide!E18,IF($D$1=Hide!$F$2,Hide!F18,IF($D$1=Hide!$G$2,Hide!G18,IF($D$1=Hide!$H$2,Hide!H18,IF($D$1=Hide!$I$2,Hide!I18,IF($D$1=Hide!$J$2,Hide!J18,IF($D$1=Hide!$N$2,Hide!N18,IF($D$1=Hide!$O$2,Hide!O18,IF($D$1=Hide!$P$2,Hide!P18,IF($D$1=Hide!$Q$2,Hide!Q18,IF($D$1=Hide!$U$2,Hide!U18,IF($D$1=Hide!$V$2,Hide!V18,"N/A"))))))))))))) -> - | E15: =IF($E$1=Hide!$D$2,Hide!D18,IF($E$1=Hide!$E$2,Hide!E18,IF($E$1=Hide!$F$2,Hide!F18,IF($E$1=Hide!$G$2,Hide!G18,IF($E$1=Hide!$H$2,Hide!H18,IF($E$1=Hide!$I$2,Hide!I18,IF($E$1=Hide!$J$2,Hide!J18,IF($E$1=Hide!$N$2,Hide!N18,IF($E$1=Hide!$O$2,Hide!O18,IF($E$1=Hide!$P$2,Hide!P18,IF($E$1=Hide!$Q$2,Hide!Q18,IF($E$1=Hide!$U$2,Hide!U18,IF($E$1=Hide!$V$2,Hide!V18,"N/A"))))))))))))) -> - | F15: =IF($F$1=Hide!$D$2,Hide!D18,IF($F$1=Hide!$E$2,Hide!E18,IF($F$1=Hide!$F$2,Hide!F18,IF($F$1=Hide!$G$2,Hide!G18,IF($F$1=Hide!$H$2,Hide!H18,IF($F$1=Hide!$I$2,Hide!I18,IF($F$1=Hide!$J$2,Hide!J18,IF($F$1=Hide!$N$2,Hide!N18,IF($F$1=Hide!$O$2,Hide!O18,IF($F$1=Hide!$P$2,Hide!P18,IF($F$1=Hide!$Q$2,Hide!Q18,IF($F$1=Hide!$U$2,Hide!U18,IF($F$1=Hide!$V$2,Hide!V18,"N/A"))))))))))))) -> - | G15: =IF($G$1=Hide!$D$2,Hide!D18,IF($G$1=Hide!$E$2,Hide!E18,IF($G$1=Hide!$F$2,Hide!F18,IF($G$1=Hide!$G$2,Hide!G18,IF($G$1=Hide!$H$2,Hide!H18,IF($G$1=Hide!$I$2,Hide!I18,IF($G$1=Hide!$J$2,Hide!J18,IF($G$1=Hide!$N$2,Hide!N18,IF($G$1=Hide!$O$2,Hide!O18,IF($G$1=Hide!$P$2,Hide!P18,IF($G$1=Hide!$Q$2,Hide!Q18,IF($G$1=Hide!$U$2,Hide!U18,IF($G$1=Hide!$V$2,Hide!V18,"N/A"))))))))))))) -> - | H15: =IF($H$1=Hide!$D$2,Hide!D18,IF($H$1=Hide!$E$2,Hide!E18,IF($H$1=Hide!$F$2,Hide!F18,IF($H$1=Hide!$G$2,Hide!G18,IF($H$1=Hide!$H$2,Hide!H18,IF($H$1=Hide!$I$2,Hide!I18,IF($H$1=Hide!$J$2,Hide!J18,IF($H$1=Hide!$N$2,Hide!N18,IF($H$1=Hide!$O$2,Hide!O18,IF($H$1=Hide!$P$2,Hide!P18,IF($H$1=Hide!$Q$2,Hide!Q18,IF($H$1=Hide!$U$2,Hide!U18,IF($H$1=Hide!$V$2,Hide!V18,"N/A"))))))))))))) -> N/A
A16: Maximum power gradient | C16: 1/h | D16: =IF($D$1=Hide!$D$2,Hide!D19,IF($D$1=Hide!$E$2,Hide!E19,IF($D$1=Hide!$F$2,Hide!F19,IF($D$1=Hide!$G$2,Hide!G19,IF($D$1=Hide!$H$2,Hide!H19,IF($D$1=Hide!$I$2,Hide!I19,IF($D$1=Hide!$J$2,Hide!J19,IF($D$1=Hide!$N$2,Hide!N19,IF($D$1=Hide!$O$2,Hide!O19,IF($D$1=Hide!$P$2,Hide!P19,IF($D$1=Hide!$Q$2,Hide!Q19,IF($D$1=Hide!$U$2,Hide!U19,IF($D$1=Hide!$V$2,Hide!V19,"N/A"))))))))))))) -> 12 | E16: =IF($E$1=Hide!$D$2,Hide!D19,IF($E$1=Hide!$E$2,Hide!E19,IF($E$1=Hide!$F$2,Hide!F19,IF($E$1=Hide!$G$2,Hide!G19,IF($E$1=Hide!$H$2,Hide!H19,IF($E$1=Hide!$I$2,Hide!I19,IF($E$1=Hide!$J$2,Hide!J19,IF($E$1=Hide!$N$2,Hide!N19,IF($E$1=Hide!$O$2,Hide!O19,IF($E$1=Hide!$P$2,Hide!P19,IF($E$1=Hide!$Q$2,Hide!Q19,IF($E$1=Hide!$U$2,Hide!U19,IF($E$1=Hide!$V$2,Hide!V19,"N/A"))))))))))))) -> - | F16: =IF($F$1=Hide!$D$2,Hide!D19,IF($F$1=Hide!$E$2,Hide!E19,IF($F$1=Hide!$F$2,Hide!F19,IF($F$1=Hide!$G$2,Hide!G19,IF($F$1=Hide!$H$2,Hide!H19,IF($F$1=Hide!$I$2,Hide!I19,IF($F$1=Hide!$J$2,Hide!J19,IF($F$1=Hide!$N$2,Hide!N19,IF($F$1=Hide!$O$2,Hide!O19,IF($F$1=Hide!$P$2,Hide!P19,IF($F$1=Hide!$Q$2,Hide!Q19,IF($F$1=Hide!$U$2,Hide!U19,IF($F$1=Hide!$V$2,Hide!V19,"N/A"))))))))))))) -> - | G16: =IF($G$1=Hide!$D$2,Hide!D19,IF($G$1=Hide!$E$2,Hide!E19,IF($G$1=Hide!$F$2,Hide!F19,IF($G$1=Hide!$G$2,Hide!G19,IF($G$1=Hide!$H$2,Hide!H19,IF($G$1=Hide!$I$2,Hide!I19,IF($G$1=Hide!$J$2,Hide!J19,IF($G$1=Hide!$N$2,Hide!N19,IF($G$1=Hide!$O$2,Hide!O19,IF($G$1=Hide!$P$2,Hide!P19,IF($G$1=Hide!$Q$2,Hide!Q19,IF($G$1=Hide!$U$2,Hide!U19,IF($G$1=Hide!$V$2,Hide!V19,"N/A"))))))))))))) -> 1 | H16: =IF($H$1=Hide!$D$2,Hide!D19,IF($H$1=Hide!$E$2,Hide!E19,IF($H$1=Hide!$F$2,Hide!F19,IF($H$1=Hide!$G$2,Hide!G19,IF($H$1=Hide!$H$2,Hide!H19,IF($H$1=Hide!$I$2,Hide!I19,IF($H$1=Hide!$J$2,Hide!J19,IF($H$1=Hide!$N$2,Hide!N19,IF($H$1=Hide!$O$2,Hide!O19,IF($H$1=Hide!$P$2,Hide!P19,IF($H$1=Hide!$Q$2,Hide!Q19,IF($H$1=Hide!$U$2,Hide!U19,IF($H$1=Hide!$V$2,Hide!V19,"N/A"))))))))))))) -> N/A
A17: Advanced Parameters
A18: Storage
A19: Self discharging ratio | C19: 1/d | D19: =IF($D$1=Hide!$D$2,Hide!D23,IF($D$1=Hide!$E$2,Hide!E23,IF($D$1=Hide!$F$2,Hide!F23,IF($D$1=Hide!$G$2,Hide!G23,IF($D$1=Hide!$H$2,Hide!H23,IF($D$1=Hide!$I$2,Hide!I23,IF($D$1=Hide!$J$2,Hide!J23,IF($D$1=Hide!$N$2,Hide!N23,IF($D$1=Hide!$O$2,Hide!O23,IF($D$1=Hide!$P$2,Hide!P23,IF($D$1=Hide!$Q$2,Hide!Q23,IF($D$1=Hide!$U$2,Hide!U23,IF($D$1=Hide!$V$2,Hide!V23,"N/A"))))))))))))) -> - | E19: =IF($E$1=Hide!$D$2,Hide!D23,IF($E$1=Hide!$E$2,Hide!E23,IF($E$1=Hide!$F$2,Hide!F23,IF($E$1=Hide!$G$2,Hide!G23,IF($E$1=Hide!$H$2,Hide!H23,IF($E$1=Hide!$I$2,Hide!I23,IF($E$1=Hide!$J$2,Hide!J23,IF($E$1=Hide!$N$2,Hide!N23,IF($E$1=Hide!$O$2,Hide!O23,IF($E$1=Hide!$P$2,Hide!P23,IF($E$1=Hide!$Q$2,Hide!Q23,IF($E$1=Hide!$U$2,Hide!U23,IF($E$1=Hide!$V$2,Hide!V23,"N/A"))))))))))))) -> - | F19: =IF($F$1=Hide!$D$2,Hide!D23,IF($F$1=Hide!$E$2,Hide!E23,IF($F$1=Hide!$F$2,Hide!F23,IF($F$1=Hide!$G$2,Hide!G23,IF($F$1=Hide!$H$2,Hide!H23,IF($F$1=Hide!$I$2,Hide!I23,IF($F$1=Hide!$J$2,Hide!J23,IF($F$1=Hide!$N$2,Hide!N23,IF($F$1=Hide!$O$2,Hide!O23,IF($F$1=Hide!$P$2,Hide!P23,IF($F$1=Hide!$Q$2,Hide!Q23,IF($F$1=Hide!$U$2,Hide!U23,IF($F$1=Hide!$V$2,Hide!V23,"N/A"))))))))))))) -> - | G19: =IF($G$1=Hide!$D$2,Hide!D23,IF($G$1=Hide!$E$2,Hide!E23,IF($G$1=Hide!$F$2,Hide!F23,IF($G$1=Hide!$G$2,Hide!G23,IF($G$1=Hide!$H$2,Hide!H23,IF($G$1=Hide!$I$2,Hide!I23,IF($G$1=Hide!$J$2,Hide!J23,IF($G$1=Hide!$N$2,Hide!N23,IF($G$1=Hide!$O$2,Hide!O23,IF($G$1=Hide!$P$2,Hide!P23,IF($G$1=Hide!$Q$2,Hide!Q23,IF($G$1=Hide!$U$2,Hide!U23,IF($G$1=Hide!$V$2,Hide!V23,"N/A"))))))))))))) -> 0.0035058573 | H19: =IF($H$1=Hide!$D$2,Hide!D23,IF($H$1=Hide!$E$2,Hide!E23,IF($H$1=Hide!$F$2,Hide!F23,IF($H$1=Hide!$G$2,Hide!G23,IF($H$1=Hide!$H$2,Hide!H23,IF($H$1=Hide!$I$2,Hide!I23,IF($H$1=Hide!$J$2,Hide!J23,IF($H$1=Hide!$N$2,Hide!N23,IF($H$1=Hide!$O$2,Hide!O23,IF($H$1=Hide!$P$2,Hide!P23,IF($H$1=Hide!$Q$2,Hide!Q23,IF($H$1=Hide!$U$2,Hide!U23,IF($H$1=Hide!$V$2,Hide!V23,"N/A"))))))))))))) -> N/A
A20: Minimum SOC | C20: % | D20: =IF($E$1=Hide!$D$2,Hide!D26,IF($E$1=Hide!$E$2,Hide!E26,IF($E$1=Hide!$F$2,Hide!F26,IF($E$1=Hide!$G$2,Hide!G26,IF($E$1=Hide!$H$2,Hide!H26,IF($E$1=Hide!$I$2,Hide!I26,IF($E$1=Hide!$J$2,Hide!J26,IF($E$1=Hide!$N$2,Hide!N26,IF($E$1=Hide!$O$2,Hide!O26,IF($E$1=Hide!$P$2,Hide!P26,IF($E$1=Hide!$Q$2,Hide!Q26,IF($E$1=Hide!$U$2,Hide!U26,IF($E$1=Hide!$V$2,Hide!V26,"N/A"))))))))))))) -> - | E20: =IF($E$1=Hide!$D$2,Hide!D26,IF($E$1=Hide!$E$2,Hide!E26,IF($E$1=Hide!$F$2,Hide!F26,IF($E$1=Hide!$G$2,Hide!G26,IF($E$1=Hide!$H$2,Hide!H26,IF($E$1=Hide!$I$2,Hide!I26,IF($E$1=Hide!$J$2,Hide!J26,IF($E$1=Hide!$N$2,Hide!N26,IF($E$1=Hide!$O$2,Hide!O26,IF($E$1=Hide!$P$2,Hide!P26,IF($E$1=Hide!$Q$2,Hide!Q26,IF($E$1=Hide!$U$2,Hide!U26,IF($E$1=Hide!$V$2,Hide!V26,"N/A"))))))))))))) -> - | F20: =IF($F$1=Hide!$D$2,Hide!D26,IF($F$1=Hide!$E$2,Hide!E26,IF($F$1=Hide!$F$2,Hide!F26,IF($F$1=Hide!$G$2,Hide!G26,IF($F$1=Hide!$H$2,Hide!H26,IF($F$1=Hide!$I$2,Hide!I26,IF($F$1=Hide!$J$2,Hide!J26,IF($F$1=Hide!$N$2,Hide!N26,IF($F$1=Hide!$O$2,Hide!O26,IF($F$1=Hide!$P$2,Hide!P26,IF($F$1=Hide!$Q$2,Hide!Q26,IF($F$1=Hide!$U$2,Hide!U26,IF($F$1=Hide!$V$2,Hide!V26,"N/A"))))))))))))) -> - | G20: =IF($G$1=Hide!$D$2,Hide!D26,IF($G$1=Hide!$E$2,Hide!E26,IF($G$1=Hide!$F$2,Hide!F26,IF($G$1=Hide!$G$2,Hide!G26,IF($G$1=Hide!$H$2,Hide!H26,IF($G$1=Hide!$I$2,Hide!I26,IF($G$1=Hide!$J$2,Hide!J26,IF($G$1=Hide!$N$2,Hide!N26,IF($G$1=Hide!$O$2,Hide!O26,IF($G$1=Hide!$P$2,Hide!P26,IF($G$1=Hide!$Q$2,Hide!Q26,IF($G$1=Hide!$U$2,Hide!U26,IF($G$1=Hide!$V$2,Hide!V26,"N/A"))))))))))))) -> 50 | H20: =IF($H$1=Hide!$D$2,Hide!D26,IF($H$1=Hide!$E$2,Hide!E26,IF($H$1=Hide!$F$2,Hide!F26,IF($H$1=Hide!$G$2,Hide!G26,IF($H$1=Hide!$H$2,Hide!H26,IF($H$1=Hide!$I$2,Hide!I26,IF($H$1=Hide!$J$2,Hide!J26,IF($H$1=Hide!$N$2,Hide!N26,IF($H$1=Hide!$O$2,Hide!O26,IF($H$1=Hide!$P$2,Hide!P26,IF($H$1=Hide!$Q$2,Hide!Q26,IF($H$1=Hide!$U$2,Hide!U26,IF($H$1=Hide!$V$2,Hide!V26,"N/A"))))))))))))) -> N/A
A21: Rountrip efficiency | C21: % | D21: =IF($D$1=Hide!$D$2,Hide!D27,IF($D$1=Hide!$E$2,Hide!E27,IF($D$1=Hide!$F$2,Hide!F27,IF($D$1=Hide!$G$2,Hide!G27,IF($D$1=Hide!$H$2,Hide!H27,IF($D$1=Hide!$I$2,Hide!I27,IF($D$1=Hide!$J$2,Hide!J27,IF($D$1=Hide!$N$2,Hide!N27,IF($D$1=Hide!$O$2,Hide!O27,IF($D$1=Hide!$P$2,Hide!P27,IF($D$1=Hide!$Q$2,Hide!Q27,IF($D$1=Hide!$U$2,Hide!U27,IF($D$1=Hide!$V$2,Hide!V27,"N/A"))))))))))))) -> - | E21: =IF($E$1=Hide!$D$2,Hide!D27,IF($E$1=Hide!$E$2,Hide!E27,IF($E$1=Hide!$F$2,Hide!F27,IF($E$1=Hide!$G$2,Hide!G27,IF($E$1=Hide!$H$2,Hide!H27,IF($E$1=Hide!$I$2,Hide!I27,IF($E$1=Hide!$J$2,Hide!J27,IF($E$1=Hide!$N$2,Hide!N27,IF($E$1=Hide!$O$2,Hide!O27,IF($E$1=Hide!$P$2,Hide!P27,IF($E$1=Hide!$Q$2,Hide!Q27,IF($E$1=Hide!$U$2,Hide!U27,IF($E$1=Hide!$V$2,Hide!V27,"N/A"))))))))))))) -> - | F21: =IF($F$1=Hide!$D$2,Hide!D27,IF($F$1=Hide!$E$2,Hide!E27,IF($F$1=Hide!$F$2,Hide!F27,IF($F$1=Hide!$G$2,Hide!G27,IF($F$1=Hide!$H$2,Hide!H27,IF($F$1=Hide!$I$2,Hide!I27,IF($F$1=Hide!$J$2,Hide!J27,IF($F$1=Hide!$N$2,Hide!N27,IF($F$1=Hide!$O$2,Hide!O27,IF($F$1=Hide!$P$2,Hide!P27,IF($F$1=Hide!$Q$2,Hide!Q27,IF($F$1=Hide!$U$2,Hide!U27,IF($F$1=Hide!$V$2,Hide!V27,"N/A"))))))))))))) -> - | G21: =IF($G$1=Hide!$D$2,Hide!D27,IF($G$1=Hide!$E$2,Hide!E27,IF($G$1=Hide!$F$2,Hide!F27,IF($G$1=Hide!$G$2,Hide!G27,IF($G$1=Hide!$H$2,Hide!H27,IF($G$1=Hide!$I$2,Hide!I27,IF($G$1=Hide!$J$2,Hide!J27,IF($G$1=Hide!$N$2,Hide!N27,IF($G$1=Hide!$O$2,Hide!O27,IF($G$1=Hide!$P$2,Hide!P27,IF($G$1=Hide!$Q$2,Hide!Q27,IF($G$1=Hide!$U$2,Hide!U27,IF($G$1=Hide!$V$2,Hide!V27,"N/A"))))))))))))) -> 80 | H21: =IF($H$1=Hide!$D$2,Hide!D27,IF($H$1=Hide!$E$2,Hide!E27,IF($H$1=Hide!$F$2,Hide!F27,IF($H$1=Hide!$G$2,Hide!G27,IF($H$1=Hide!$H$2,Hide!H27,IF($H$1=Hide!$I$2,Hide!I27,IF($H$1=Hide!$J$2,Hide!J27,IF($H$1=Hide!$N$2,Hide!N27,IF($H$1=Hide!$O$2,Hide!O27,IF($H$1=Hide!$P$2,Hide!P27,IF($H$1=Hide!$Q$2,Hide!Q27,IF($H$1=Hide!$U$2,Hide!U27,IF($H$1=Hide!$V$2,Hide!V27,"N/A"))))))))))))) -> N/A
A22: Heat loss | C22: kW/h | D22: =IF($D$1=Hide!$D$2,Hide!D25,IF($D$1=Hide!$E$2,Hide!E25,IF($D$1=Hide!$F$2,Hide!F25,IF($D$1=Hide!$G$2,Hide!G25,IF($D$1=Hide!$H$2,Hide!H25,IF($D$1=Hide!$I$2,Hide!I25,IF($D$1=Hide!$J$2,Hide!J25,IF($D$1=Hide!$N$2,Hide!N25,IF($D$1=Hide!$O$2,Hide!O25,IF($D$1=Hide!$P$2,Hide!P25,IF($D$1=Hide!$Q$2,Hide!Q25,IF($D$1=Hide!$U$2,Hide!U25,IF($D$1=Hide!$V$2,Hide!V25,"N/A"))))))))))))) -> - | E22: =IF($E$1=Hide!$D$2,Hide!D25,IF($E$1=Hide!$E$2,Hide!E25,IF($E$1=Hide!$F$2,Hide!F25,IF($E$1=Hide!$G$2,Hide!G25,IF($E$1=Hide!$H$2,Hide!H25,IF($E$1=Hide!$I$2,Hide!I25,IF($E$1=Hide!$J$2,Hide!J25,IF($E$1=Hide!$N$2,Hide!N25,IF($E$1=Hide!$O$2,Hide!O25,IF($E$1=Hide!$P$2,Hide!P25,IF($E$1=Hide!$Q$2,Hide!Q25,IF($E$1=Hide!$U$2,Hide!U25,IF($E$1=Hide!$V$2,Hide!V25,"N/A"))))))))))))) -> - | F22: =IF($F$1=Hide!$D$2,Hide!D25,IF($F$1=Hide!$E$2,Hide!E25,IF($F$1=Hide!$F$2,Hide!F25,IF($F$1=Hide!$G$2,Hide!G25,IF($F$1=Hide!$H$2,Hide!H25,IF($F$1=Hide!$I$2,Hide!I25,IF($F$1=Hide!$J$2,Hide!J25,IF($F$1=Hide!$N$2,Hide!N25,IF($F$1=Hide!$O$2,Hide!O25,IF($F$1=Hide!$P$2,Hide!P25,IF($F$1=Hide!$Q$2,Hide!Q25,IF($F$1=Hide!$U$2,Hide!U25,IF($F$1=Hide!$V$2,Hide!V25,"N/A"))))))))))))) -> - | G22: =IF($G$1=Hide!$D$2,Hide!D25,IF($G$1=Hide!$E$2,Hide!E25,IF($G$1=Hide!$F$2,Hide!F25,IF($G$1=Hide!$G$2,Hide!G25,IF($G$1=Hide!$H$2,Hide!H25,IF($G$1=Hide!$I$2,Hide!I25,IF($G$1=Hide!$J$2,Hide!J25,IF($G$1=Hide!$N$2,Hide!N25,IF($G$1=Hide!$O$2,Hide!O25,IF($G$1=Hide!$P$2,Hide!P25,IF($G$1=Hide!$Q$2,Hide!Q25,IF($G$1=Hide!$U$2,Hide!U25,IF($G$1=Hide!$V$2,Hide!V25,"N/A"))))))))))))) -> - | H22: =IF($H$1=Hide!$D$2,Hide!D25,IF($H$1=Hide!$E$2,Hide!E25,IF($H$1=Hide!$F$2,Hide!F25,IF($H$1=Hide!$G$2,Hide!G25,IF($H$1=Hide!$H$2,Hide!H25,IF($H$1=Hide!$I$2,Hide!I25,IF($H$1=Hide!$J$2,Hide!J25,IF($H$1=Hide!$N$2,Hide!N25,IF($H$1=Hide!$O$2,Hide!O25,IF($H$1=Hide!$P$2,Hide!P25,IF($H$1=Hide!$Q$2,Hide!Q25,IF($H$1=Hide!$U$2,Hide!U25,IF($H$1=Hide!$V$2,Hide!V25,"N/A"))))))))))))) -> N/A
A23: PV system
A24: Efficiency | B24: Efficiency loss, temperature-dependent | C24: %/K | D24: =IF($D$1=Hide!$D$2,Hide!D29,IF($D$1=Hide!$E$2,Hide!E29,IF($D$1=Hide!$F$2,Hide!F29,IF($D$1=Hide!$G$2,Hide!G29,IF($D$1=Hide!$H$2,Hide!H29,IF($D$1=Hide!$I$2,Hide!I29,IF($D$1=Hide!$J$2,Hide!J29,IF($D$1=Hide!$N$2,Hide!N29,IF($D$1=Hide!$O$2,Hide!O29,IF($D$1=Hide!$P$2,Hide!P29,IF($D$1=Hide!$Q$2,Hide!Q29,IF($D$1=Hide!$U$2,Hide!U29,IF($D$1=Hide!$V$2,Hide!V29,"N/A"))))))))))))) -> - | E24: =IF($E$1=Hide!$D$2,Hide!D29,IF($E$1=Hide!$E$2,Hide!E29,IF($E$1=Hide!$F$2,Hide!F29,IF($E$1=Hide!$G$2,Hide!G29,IF($E$1=Hide!$H$2,Hide!H29,IF($E$1=Hide!$I$2,Hide!I29,IF($E$1=Hide!$J$2,Hide!J29,IF($E$1=Hide!$N$2,Hide!N29,IF($E$1=Hide!$O$2,Hide!O29,IF($E$1=Hide!$P$2,Hide!P29,IF($E$1=Hide!$Q$2,Hide!Q29,IF($E$1=Hide!$U$2,Hide!U29,IF($E$1=Hide!$V$2,Hide!V29,"N/A"))))))))))))) -> 0.38 | F24: =IF($F$1=Hide!$D$2,Hide!D29,IF($F$1=Hide!$E$2,Hide!E29,IF($F$1=Hide!$F$2,Hide!F29,IF($F$1=Hide!$G$2,Hide!G29,IF($F$1=Hide!$H$2,Hide!H29,IF($F$1=Hide!$I$2,Hide!I29,IF($F$1=Hide!$J$2,Hide!J29,IF($F$1=Hide!$N$2,Hide!N29,IF($F$1=Hide!$O$2,Hide!O29,IF($F$1=Hide!$P$2,Hide!P29,IF($F$1=Hide!$Q$2,Hide!Q29,IF($F$1=Hide!$U$2,Hide!U29,IF($F$1=Hide!$V$2,Hide!V29,"N/A"))))))))))))) -> - | G24: =IF($G$1=Hide!$D$2,Hide!D29,IF($G$1=Hide!$E$2,Hide!E29,IF($G$1=Hide!$F$2,Hide!F29,IF($G$1=Hide!$G$2,Hide!G29,IF($G$1=Hide!$H$2,Hide!H29,IF($G$1=Hide!$I$2,Hide!I29,IF($G$1=Hide!$J$2,Hide!J29,IF($G$1=Hide!$N$2,Hide!N29,IF($G$1=Hide!$O$2,Hide!O29,IF($G$1=Hide!$P$2,Hide!P29,IF($G$1=Hide!$Q$2,Hide!Q29,IF($G$1=Hide!$U$2,Hide!U29,IF($G$1=Hide!$V$2,Hide!V29,"N/A"))))))))))))) -> - | H24: =IF($H$1=Hide!$D$2,Hide!D29,IF($H$1=Hide!$E$2,Hide!E29,IF($H$1=Hide!$F$2,Hide!F29,IF($H$1=Hide!$G$2,Hide!G29,IF($H$1=Hide!$H$2,Hide!H29,IF($H$1=Hide!$I$2,Hide!I29,IF($H$1=Hide!$J$2,Hide!J29,IF($H$1=Hide!$N$2,Hide!N29,IF($H$1=Hide!$O$2,Hide!O29,IF($H$1=Hide!$P$2,Hide!P29,IF($H$1=Hide!$Q$2,Hide!Q29,IF($H$1=Hide!$U$2,Hide!U29,IF($H$1=Hide!$V$2,Hide!V29,"N/A"))))))))))))) -> N/A
B25: Inverter efficiency (Euro efficiency) | C25: % | D25: =IF($D$1=Hide!$D$2,Hide!D30,IF($D$1=Hide!$E$2,Hide!E30,IF($D$1=Hide!$F$2,Hide!F30,IF($D$1=Hide!$G$2,Hide!G30,IF($D$1=Hide!$H$2,Hide!H30,IF($D$1=Hide!$I$2,Hide!I30,IF($D$1=Hide!$J$2,Hide!J30,IF($D$1=Hide!$N$2,Hide!N30,IF($D$1=Hide!$O$2,Hide!O30,IF($D$1=Hide!$P$2,Hide!P30,IF($D$1=Hide!$Q$2,Hide!Q30,IF($D$1=Hide!$U$2,Hide!U30,IF($D$1=Hide!$V$2,Hide!V30,"N/A"))))))))))))) -> - | E25: =IF($E$1=Hide!$D$2,Hide!D30,IF($E$1=Hide!$E$2,Hide!E30,IF($E$1=Hide!$F$2,Hide!F30,IF($E$1=Hide!$G$2,Hide!G30,IF($E$1=Hide!$H$2,Hide!H30,IF($E$1=Hide!$I$2,Hide!I30,IF($E$1=Hide!$J$2,Hide!J30,IF($E$1=Hide!$N$2,Hide!N30,IF($E$1=Hide!$O$2,Hide!O30,IF($E$1=Hide!$P$2,Hide!P30,IF($E$1=Hide!$Q$2,Hide!Q30,IF($E$1=Hide!$U$2,Hide!U30,IF($E$1=Hide!$V$2,Hide!V30,"N/A"))))))))))))) -> 95.3 | F25: =IF($F$1=Hide!$D$2,Hide!D30,IF($F$1=Hide!$E$2,Hide!E30,IF($F$1=Hide!$F$2,Hide!F30,IF($F$1=Hide!$G$2,Hide!G30,IF($F$1=Hide!$H$2,Hide!H30,IF($F$1=Hide!$I$2,Hide!I30,IF($F$1=Hide!$J$2,Hide!J30,IF($F$1=Hide!$N$2,Hide!N30,IF($F$1=Hide!$O$2,Hide!O30,IF($F$1=Hide!$P$2,Hide!P30,IF($F$1=Hide!$Q$2,Hide!Q30,IF($F$1=Hide!$U$2,Hide!U30,IF($F$1=Hide!$V$2,Hide!V30,"N/A"))))))))))))) -> - | G25: =IF($G$1=Hide!$D$2,Hide!D30,IF($G$1=Hide!$E$2,Hide!E30,IF($G$1=Hide!$F$2,Hide!F30,IF($G$1=Hide!$G$2,Hide!G30,IF($G$1=Hide!$H$2,Hide!H30,IF($G$1=Hide!$I$2,Hide!I30,IF($G$1=Hide!$J$2,Hide!J30,IF($G$1=Hide!$N$2,Hide!N30,IF($G$1=Hide!$O$2,Hide!O30,IF($G$1=Hide!$P$2,Hide!P30,IF($G$1=Hide!$Q$2,Hide!Q30,IF($G$1=Hide!$U$2,Hide!U30,IF($G$1=Hide!$V$2,Hide!V30,"N/A"))))))))))))) -> - | H25: =IF($H$1=Hide!$D$2,Hide!D30,IF($H$1=Hide!$E$2,Hide!E30,IF($H$1=Hide!$F$2,Hide!F30,IF($H$1=Hide!$G$2,Hide!G30,IF($H$1=Hide!$H$2,Hide!H30,IF($H$1=Hide!$I$2,Hide!I30,IF($H$1=Hide!$J$2,Hide!J30,IF($H$1=Hide!$N$2,Hide!N30,IF($H$1=Hide!$O$2,Hide!O30,IF($H$1=Hide!$P$2,Hide!P30,IF($H$1=Hide!$Q$2,Hide!Q30,IF($H$1=Hide!$U$2,Hide!U30,IF($H$1=Hide!$V$2,Hide!V30,"N/A"))))))))))))) -> N/A
A26: Wind turbine
A27: Wind speed | B27: Start-up wind speed | C27: m/s | D27: =IF($D$1=Hide!$D$2,Hide!D31,IF($D$1=Hide!$E$2,Hide!E31,IF($D$1=Hide!$F$2,Hide!F31,IF($D$1=Hide!$G$2,Hide!G31,IF($D$1=Hide!$H$2,Hide!H31,IF($D$1=Hide!$I$2,Hide!I31,IF($D$1=Hide!$J$2,Hide!J31,IF($D$1=Hide!$N$2,Hide!N31,IF($D$1=Hide!$O$2,Hide!O31,IF($D$1=Hide!$P$2,Hide!P31,IF($D$1=Hide!$Q$2,Hide!Q31,IF($D$1=Hide!$U$2,Hide!U31,IF($D$1=Hide!$V$2,Hide!V31,"N/A"))))))))))))) -> - | E27: =IF($E$1=Hide!$D$2,Hide!D31,IF($E$1=Hide!$E$2,Hide!E31,IF($E$1=Hide!$F$2,Hide!F31,IF($E$1=Hide!$G$2,Hide!G31,IF($E$1=Hide!$H$2,Hide!H31,IF($E$1=Hide!$I$2,Hide!I31,IF($E$1=Hide!$J$2,Hide!J31,IF($E$1=Hide!$N$2,Hide!N31,IF($E$1=Hide!$O$2,Hide!O31,IF($E$1=Hide!$P$2,Hide!P31,IF($E$1=Hide!$Q$2,Hide!Q31,IF($E$1=Hide!$U$2,Hide!U31,IF($E$1=Hide!$V$2,Hide!V31,"N/A"))))))))))))) -> - | F27: =IF($F$1=Hide!$D$2,Hide!D31,IF($F$1=Hide!$E$2,Hide!E31,IF($F$1=Hide!$F$2,Hide!F31,IF($F$1=Hide!$G$2,Hide!G31,IF($F$1=Hide!$H$2,Hide!H31,IF($F$1=Hide!$I$2,Hide!I31,IF($F$1=Hide!$J$2,Hide!J31,IF($F$1=Hide!$N$2,Hide!N31,IF($F$1=Hide!$O$2,Hide!O31,IF($F$1=Hide!$P$2,Hide!P31,IF($F$1=Hide!$Q$2,Hide!Q31,IF($F$1=Hide!$U$2,Hide!U31,IF($F$1=Hide!$V$2,Hide!V31,"N/A"))))))))))))) -> 2.5 | G27: =IF($G$1=Hide!$D$2,Hide!D31,IF($G$1=Hide!$E$2,Hide!E31,IF($G$1=Hide!$F$2,Hide!F31,IF($G$1=Hide!$G$2,Hide!G31,IF($G$1=Hide!$H$2,Hide!H31,IF($G$1=Hide!$I$2,Hide!I31,IF($G$1=Hide!$J$2,Hide!J31,IF($G$1=Hide!$N$2,Hide!N31,IF($G$1=Hide!$O$2,Hide!O31,IF($G$1=Hide!$P$2,Hide!P31,IF($G$1=Hide!$Q$2,Hide!Q31,IF($G$1=Hide!$U$2,Hide!U31,IF($G$1=Hide!$V$2,Hide!V31,"N/A"))))))))))))) -> - | H27: =IF($H$1=Hide!$D$2,Hide!D31,IF($H$1=Hide!$E$2,Hide!E31,IF($H$1=Hide!$F$2,Hide!F31,IF($H$1=Hide!$G$2,Hide!G31,IF($H$1=Hide!$H$2,Hide!H31,IF($H$1=Hide!$I$2,Hide!I31,IF($H$1=Hide!$J$2,Hide!J31,IF($H$1=Hide!$N$2,Hide!N31,IF($H$1=Hide!$O$2,Hide!O31,IF($H$1=Hide!$P$2,Hide!P31,IF($H$1=Hide!$Q$2,Hide!Q31,IF($H$1=Hide!$U$2,Hide!U31,IF($H$1=Hide!$V$2,Hide!V31,"N/A"))))))))))))) -> N/A
B28: Rated wind speed | C28: m/s | D28: =IF($D$1=Hide!$D$2,Hide!D32,IF($D$1=Hide!$E$2,Hide!E32,IF($D$1=Hide!$F$2,Hide!F32,IF($D$1=Hide!$G$2,Hide!G32,IF($D$1=Hide!$H$2,Hide!H32,IF($D$1=Hide!$I$2,Hide!I32,IF($D$1=Hide!$J$2,Hide!J32,IF($D$1=Hide!$N$2,Hide!N32,IF($D$1=Hide!$O$2,Hide!O32,IF($D$1=Hide!$P$2,Hide!P32,IF($D$1=Hide!$Q$2,Hide!Q32,IF($D$1=Hide!$U$2,Hide!U32,IF($D$1=Hide!$V$2,Hide!V32,"N/A"))))))))))))) -> - | E28: =IF($E$1=Hide!$D$2,Hide!D32,IF($E$1=Hide!$E$2,Hide!E32,IF($E$1=Hide!$F$2,Hide!F32,IF($E$1=Hide!$G$2,Hide!G32,IF($E$1=Hide!$H$2,Hide!H32,IF($E$1=Hide!$I$2,Hide!I32,IF($E$1=Hide!$J$2,Hide!J32,IF($E$1=Hide!$N$2,Hide!N32,IF($E$1=Hide!$O$2,Hide!O32,IF($E$1=Hide!$P$2,Hide!P32,IF($E$1=Hide!$Q$2,Hide!Q32,IF($E$1=Hide!$U$2,Hide!U32,IF($E$1=Hide!$V$2,Hide!V32,"N/A"))))))))))))) -> - | F28: =IF($F$1=Hide!$D$2,Hide!D32,IF($F$1=Hide!$E$2,Hide!E32,IF($F$1=Hide!$F$2,Hide!F32,IF($F$1=Hide!$G$2,Hide!G32,IF($F$1=Hide!$H$2,Hide!H32,IF($F$1=Hide!$I$2,Hide!I32,IF($F$1=Hide!$J$2,Hide!J32,IF($F$1=Hide!$N$2,Hide!N32,IF($F$1=Hide!$O$2,Hide!O32,IF($F$1=Hide!$P$2,Hide!P32,IF($F$1=Hide!$Q$2,Hide!Q32,IF($F$1=Hide!$U$2,Hide!U32,IF($F$1=Hide!$V$2,Hide!V32,"N/A"))))))))))))) -> 10 | G28: =IF($G$1=Hide!$D$2,Hide!D32,IF($G$1=Hide!$E$2,Hide!E32,IF($G$1=Hide!$F$2,Hide!F32,IF($G$1=Hide!$G$2,Hide!G32,IF($G$1=Hide!$H$2,Hide!H32,IF($G$1=Hide!$I$2,Hide!I32,IF($G$1=Hide!$J$2,Hide!J32,IF($G$1=Hide!$N$2,Hide!N32,IF($G$1=Hide!$O$2,Hide!O32,IF($G$1=Hide!$P$2,Hide!P32,IF($G$1=Hide!$Q$2,Hide!Q32,IF($G$1=Hide!$U$2,Hide!U32,IF($G$1=Hide!$V$2,Hide!V32,"N/A"))))))))))))) -> - | H28: =IF($H$1=Hide!$D$2,Hide!D32,IF($H$1=Hide!$E$2,Hide!E32,IF($H$1=Hide!$F$2,Hide!F32,IF($H$1=Hide!$G$2,Hide!G32,IF($H$1=Hide!$H$2,Hide!H32,IF($H$1=Hide!$I$2,Hide!I32,IF($H$1=Hide!$J$2,Hide!J32,IF($H$1=Hide!$N$2,Hide!N32,IF($H$1=Hide!$O$2,Hide!O32,IF($H$1=Hide!$P$2,Hide!P32,IF($H$1=Hide!$Q$2,Hide!Q32,IF($H$1=Hide!$U$2,Hide!U32,IF($H$1=Hide!$V$2,Hide!V32,"N/A"))))))))))))) -> N/A
A29: Cumulative rotor radius | C29: m | D29: =IF($D$1=Hide!$D$2,Hide!D33,IF($D$1=Hide!$E$2,Hide!E33,IF($D$1=Hide!$F$2,Hide!F33,IF($D$1=Hide!$G$2,Hide!G33,IF($D$1=Hide!$H$2,Hide!H33,IF($D$1=Hide!$I$2,Hide!I33,IF($D$1=Hide!$J$2,Hide!J33,IF($D$1=Hide!$N$2,Hide!N33,IF($D$1=Hide!$O$2,Hide!O33,IF($D$1=Hide!$P$2,Hide!P33,IF($D$1=Hide!$Q$2,Hide!Q33,IF($D$1=Hide!$U$2,Hide!U33,IF($D$1=Hide!$V$2,Hide!V33,"N/A"))))))))))))) -> - | E29: =IF($E$1=Hide!$D$2,Hide!D33,IF($E$1=Hide!$E$2,Hide!E33,IF($E$1=Hide!$F$2,Hide!F33,IF($E$1=Hide!$G$2,Hide!G33,IF($E$1=Hide!$H$2,Hide!H33,IF($E$1=Hide!$I$2,Hide!I33,IF($E$1=Hide!$J$2,Hide!J33,IF($E$1=Hide!$N$2,Hide!N33,IF($E$1=Hide!$O$2,Hide!O33,IF($E$1=Hide!$P$2,Hide!P33,IF($E$1=Hide!$Q$2,Hide!Q33,IF($E$1=Hide!$U$2,Hide!U33,IF($E$1=Hide!$V$2,Hide!V33,"N/A"))))))))))))) -> - | F29: =IF($F$1=Hide!$D$2,Hide!D33,IF($F$1=Hide!$E$2,Hide!E33,IF($F$1=Hide!$F$2,Hide!F33,IF($F$1=Hide!$G$2,Hide!G33,IF($F$1=Hide!$H$2,Hide!H33,IF($F$1=Hide!$I$2,Hide!I33,IF($F$1=Hide!$J$2,Hide!J33,IF($F$1=Hide!$N$2,Hide!N33,IF($F$1=Hide!$O$2,Hide!O33,IF($F$1=Hide!$P$2,Hide!P33,IF($F$1=Hide!$Q$2,Hide!Q33,IF($F$1=Hide!$U$2,Hide!U33,IF($F$1=Hide!$V$2,Hide!V33,"N/A"))))))))))))) -> 2.99 | G29: =IF($G$1=Hide!$D$2,Hide!D33,IF($G$1=Hide!$E$2,Hide!E33,IF($G$1=Hide!$F$2,Hide!F33,IF($G$1=Hide!$G$2,Hide!G33,IF($G$1=Hide!$H$2,Hide!H33,IF($G$1=Hide!$I$2,Hide!I33,IF($G$1=Hide!$J$2,Hide!J33,IF($G$1=Hide!$N$2,Hide!N33,IF($G$1=Hide!$O$2,Hide!O33,IF($G$1=Hide!$P$2,Hide!P33,IF($G$1=Hide!$Q$2,Hide!Q33,IF($G$1=Hide!$U$2,Hide!U33,IF($G$1=Hide!$V$2,Hide!V33,"N/A"))))))))))))) -> - | H29: =IF($H$1=Hide!$D$2,Hide!D33,IF($H$1=Hide!$E$2,Hide!E33,IF($H$1=Hide!$F$2,Hide!F33,IF($H$1=Hide!$G$2,Hide!G33,IF($H$1=Hide!$H$2,Hide!H33,IF($H$1=Hide!$I$2,Hide!I33,IF($H$1=Hide!$J$2,Hide!J33,IF($H$1=Hide!$N$2,Hide!N33,IF($H$1=Hide!$O$2,Hide!O33,IF($H$1=Hide!$P$2,Hide!P33,IF($H$1=Hide!$Q$2,Hide!Q33,IF($H$1=Hide!$U$2,Hide!U33,IF($H$1=Hide!$V$2,Hide!V33,"N/A"))))))))))))) -> N/A

Sheet Hide
A1: Economical parameters
A2: Type | B2: Spec | D2: Generator - GN | E2: Fuel Cell System - FC | F2: Motoric CHP System - MC | G2: Heat Pump - HP | H2: Electric Heater - EH | I2: Compression Chiller - CC | J2: Heating Boiler - HB | K2: Type | L2: Spec | N2: Li-ion Battery - B1 | O2: Lead Acid Battery - B2 | P2: Heat Storage - HS | Q2: Cooling Storage - CS | R2: Type | S2: Spec | U2: Photovoltaic System - PV | V2: Wind Turbine - WT
D3: =Cover_Sheet!$C$50&"/kW" -> €/kW | E3: =Cover_Sheet!$C$50&"/kW" -> €/kW | F3: =Cover_Sheet!$C$50&"/kW" -> €/kW | G3: =Cover_Sheet!$C$50&"/kW" -> €/kW | H3: =Cover_Sheet!$C$50&"/kW" -> €/kW | I3: =Cover_Sheet!$C$50&"/kW" -> €/kW | J3: =Cover_Sheet!$C$50&"/kW" -> €/kW | N3: =Cover_Sheet!$C$50&"/kWh" -> €/kWh | O3: =Cover_Sheet!$C$50&"/kWh" -> €/kWh | P3: =Cover_Sheet!$C$50&"/kWh" -> €/kWh | Q3: =Cover_Sheet!$C$50&"/kWh" -> €/kWh | U3: =Cover_Sheet!$C$50&"/kW" -> €/kW | V3: =Cover_Sheet!$C$50&"/kW" -> €/kW
A4: Fixed cost | B4: Size specific investment cost (incl. installation) | C4: ="["&Cover_Sheet!$C$50&"/kW]" -> [€/kW] | D4: 300 | E4: 3000 | F4: 700 | G4: 310 | H4: 20 | I4: 150 | J4: 45 | K4: Fixed cost | L4: Size specific investment cost (incl. installation) | M4: ="["&Cover_Sheet!$C$50&"/kWh]" -> [€/kWh] | N4: 600 | O4: 150 | P4: 10.58 | Q4: 20 | R4: Fixed cost | S4: Size specific investment cost (incl. installation) | T4: ="["&Cover_Sheet!$C$50&"/kW]" -> [€/kW] | U4: 1000 | V4: 900
A5: Fixed cost | B5: General OMC | C5: ="["&Cover_Sheet!$C$50&"/a]" -> [€/a] | D5: 24.6 | E5: 240 | F5: 260 | G5: 114 | H5: 6 | I5: 160 | J5: 100 | K5: Fixed cost | L5: General OMC | M5: ="["&Cover_Sheet!$C$50&"/a]" -> [€/a] | N5: 24 | O5: 13 | P5: 25.06 | Q5: 38.8 | R5: Fixed cost | S5: General OMC | T5: ="["&Cover_Sheet!$C$50&"/a]" -> [€/a] | U5: 64 | V5: 30
A6: Fixed cost | B6: Size specific OMC | C6: ="["&Cover_Sheet!$C$50&"/(kW a)]" -> [€/(kW a)] | D6: 6 | E6: 60 | F6: 14 | G6: 6.2 | H6: 0.4 | I6: 3 | J6: 0.9 | K6: Fixed cost | L6: Size specific OMC | M6: ="["&Cover_Sheet!$C$50&"/(kW a)]" -> [€/(kW a)] | N6: 12 | O6: 3 | P6: 0.21 | Q6: 0.4 | R6: Fixed cost | S6: Size specific OMC | T6: ="["&Cover_Sheet!$C$50&"/(kW a)]" -> [€/(kW a)] | U6: 80 | V6: 18
A7: Variable cost | B7: Use specific OMC | C7: ="["&Cover_Sheet!$C$50&"/h]" -> [€/h] | D7: 0 | E7: 0 | F7: 0 | G7: 0 | H7: 0 | I7: 0 | J7: 0 | K7: Variable cost | L7: Variable OMC | N7: - | O7: - | P7: - | Q7: - | R7: Variable cost | S7: Use specific OMC | T7: ="["&Cover_Sheet!$C$50&"/h]" -> [€/h] | U7: 0 | V7: 0
A8: Durability | B8: Technical lifetime | C8: [a] | D8: 20 | E8: 5 | F8: 25 | G8: 20 | H8: 25 | I8: 20 | J8: 25 | K8: Durability | L8: Technical lifetime | M8: [a] | N8: 10 | O8: 13 | P8: 25 | Q8: 20 | R8: Durability | S8: Technical lifetime | T8: [a] | U8: 20 | V8: 20
A9: Financing | B9: Debt share | C9: [–] | D9: 0 | E9: 0 | F9: 0 | G9: 0 | H9: 0 | I9: 0 | J9: 0 | K9: Financing | L9: Debt share | M9: [–] | N9: 0 | O9: 0 | P9: 0 | Q9: 0 | R9: Financing | S9: Debt share | T9: [–] | U9: 0 | V9: 0
A10: Financing | B10: Debt term | C10: [a] | D10: =ROUND(0.75*D8,0) -> 15 | E10: =ROUND(0.75*E8,0) -> 4 | F10: =ROUND(0.75*F8,0) -> 19 | G10: =ROUND(0.75*G8,0) -> 15 | H10: =ROUND(0.75*H8,0) -> 19 | I10: =ROUND(0.75*I8,0) -> 15 | J10: =ROUND(0.75*J8,0) -> 19 | K10: Financing | L10: Debt term | M10: [a] | N10: =ROUND(0.75*N8,0) -> 8 | O10: =ROUND(0.75*O8,0) -> 10 | P10: =ROUND(0.75*P8,0) -> 19 | Q10: =ROUND(0.75*Q8,0) -> 15 | R10: Financing | S10: Debt term | T10: [a] | U10: =ROUND(0.75*U8,0) -> 15 | V10: =ROUND(0.75*V8,0) -> 15
A11: Technical parameters
A12: General parameters
D13: kW | E13: kW | F13: kW | G13: kW | H13: kW | I13: kW | J13: kW | N13: kWh | O13: kWh | P13: kWh | Q13: kWh | U13: kW | V13: kW
A14: Maximum capacity | B14: Electric power/Thermal power | C14: [kW] | D14: 1000 | E14: 1000 | F14: 1000 | G14: 1000 | H14: 1000 | I14: 1000 | J14: 1000 | K14: Maximum capacity | L14: Storage capacity | M14: [kWh] | N14: 1000 | O14: 1000 | P14: 1000 | Q14: 1000 | R14: Maximum capacity | S14: Electric power | T14: [kW] | U14: 1000 | V14: 1000
A15: Minimum installable capacity | B15: Main power type | C15: [kW] | D15: 0 | E15: 0 | F15: 0 | G15: 0 | H15: 0 | I15: 0 | J15: 0 | K15: Minimum installable capacity | L15: Storage capacity | M15: [kWh] | N15: 0 | O15: 0 | P15: 0 | Q15: 0 | R15: Minimum installable capacity | S15: Electric power | T15: [kW] | U15: 0 | V15: 0
A16: Minimum capacity | B16: Electric power (relative to max) | C16: [–] | D16: 0.4 | E16: 0.4 | F16: 0.2 | G16: 0.25 | H16: 0 | I16: 0.25 | J16: 0.5 | K16: Minimum capacity | L16: Storage capacity (relative to max) | M16: [–] | N16: 0.1 | O16: 0.5 | P16: 0.033 | Q16: 0.058 | R16: Relative minimum capacity | U16: - | V16: -
A17: Conversion efficiency | B17: Conversion to electrical power | C17: % | D17: 35 | E17: 50 | F17: 34.1 | G17: - | H17: - | I17: - | J17: - | K17: Conversion efficiency | L17: Charging | M17: [–] | N17: - | O17: - | P17: - | Q17: - | R17: Conversion efficiency | S17: Conversion to electrical power | T17: [–] | U17: 15.67 | V17: 29
A18: Conversion efficiency | B18: Conversion to thermal power | C18: [–] (COP,EER) | D18: - | E18: 0.25 | F18: 0.488 | G18: 3 | H18: 0.999 | I18: 3 | J18: 0.95 | K18: Conversion efficiency | L18: Discharging | M18: [–] | N18: - | O18: - | P18: - | Q18: - | R18: Conversion efficiency | U18: - | V18: -
A19: Maximum power gradient | B19: Max power gradient upwards | C19: [1/h] | D19: 12 | E19: 0.5 | F19: 12 | G19: 1 | H19: 10 | I19: 1 | J19: 1 | K19: Maximum power gradient | L19: Max power gradient charging | M19: [1/h] | N19: 0.6 | O19: 1 | P19: 2 | Q19: 2 | R19: Maximum power gradient | U19: - | V19: -
A20: Specific parameters
A21: Storage
A22: Storing efficiency | B22: Storing loss per hour | C22: [1/h] | D22: - | E22: - | F22: - | G22: - | H22: - | I22: - | J22: - | K22: Storing efficiency | L22: Storing loss per hour | M22: [1/h] | N22: =1-(1-N24)^(1/(24*30)) -> 3.4765637e-06 | O22: =1-(1-O24)^(1/(24*30)) -> 0.00014632334 | P22: 0.00079 | Q22: =1-(1-Q24)^(1/(24*30)) -> 0.00096224117 | U22: - | V22: -
A23: Storing efficiency | B23: Storing loss per day | C23: [1/d] | D23: - | E23: - | F23: - | G23: - | H23: - | I23: - | J23: - | K23: Storing efficiency | L23: Storing loss per day | M23: [1/d] | N23: =1-(1-N24)^(1/(30)) -> 8.3434193e-05 | O23: =1-(1-O24)^(1/(30)) -> 0.0035058573 | P23: 0.0187 | Q23: =1-(1-Q24)^(1/(30)) -> 0.022840032 | U23: - | V23: -
A24: Storing efficiency | B24: Storing loss per month | C24: [1/30d] | D24: - | E24: - | F24: - | G24: - | H24: - | I24: - | J24: - | K24: Storing efficiency | L24: Storing loss per month | M24: [1/30d] | N24: 0.0025 | O24: 0.1 | P24: 0.43 | Q24: 0.5 | U24: - | V24: -
A25: Storing efficiency | B25: Heat loss | C25: kW/h | D25: - | E25: - | F25: - | G25: - | H25: - | I25: - | J25: - | K25: Storing efficiency | L25: Heat loss | M25: kW/h | N25: - | O25: - | P25: 0.11 | Q25: - | U25: - | V25: -
A26: Minimum SOC | C26: % | D26: - | E26: - | F26: - | G26: - | H26: - | I26: - | J26: - | N26: 10 | O26: 50 | P26: - | Q26: - | U26: - | V26: -
A27: Rountrip efficiency | C27: % | D27: - | E27: - | F27: - | G27: - | H27: - | I27: - | J27: - | N27: 90 | O27: 80 | P27: 99.99 | Q27: 99.99 | U27: - | V27: -
A28: Usable energy | B28: Energy density | C28: [kWh/m3] | D28: - | E28: - | F28: - | G28: - | H28: - | I28: - | J28: - | K28: Usable energy | L28: Energy density | M28: [kWh/m3] | N28: =N14/#REF! -> #REF! | O28: =O14/#REF! -> #REF! | P28: =1.167*(ABS(#REF!-#REF!)) -> #REF! | Q28: =1.167*(ABS(#REF!-#REF!)) -> #REF! | U28: - | V28: -
A29: Efficiency loss, temperature-dependent | B29: [1/K] | D29: - | E29: - | F29: - | G29: - | H29: - | I29: - | J29: - | K29: - | L29: - | M29: - | N29: - | O29: - | P29: - | Q29: - | S29: Efficiency loss, temperature-dependent | T29: [%/K] | U29: 0.38 | V29: -
A30: Inverter efficiency (Euro efficiency) | B30: [–] | D30: - | E30: - | F30: - | G30: - | H30: - | I30: - | J30: - | K30: - | L30: - | M30: - | N30: - | O30: - | P30: - | Q30: - | S30: Inverter efficiency (Euro efficiency) | T30: [%] | U30: 95.3 | V30: -
A31: Start-up wind speed | B31: [m/s] | D31: - | E31: - | F31: - | G31: - | H31: - | I31: - | J31: - | K31: - | L31: - | M31: - | N31: - | O31: - | P31: - | Q31: - | S31: Start-up wind speed | T31: [m/s] | U31: - | V31: 2.5
A32: Rated wind speed | B32: [m/s] | D32: - | E32: - | F32: - | G32: - | H32: - | I32: - | J32: - | K32: - | L32: - | M32: - | N32: - | O32: - | P32: - | Q32: - | S32: Rated wind speed | T32: [m/s] | U32: - | V32: 10
A33: Cumulative rotor radius | B33: [m] | D33: - | E33: - | F33: - | G33: - | H33: - | I33: - | J33: - | K33: - | L33: - | M33: - | N33: - | O33: - | P33: - | Q33: - | S33: Cumulative rotor radius | T33: [m] | U33: - | V33: 2.99
C34: === Dispatchable technologies === | D34: === Cost === | E34: =Cover_Sheet!$C$50&"/a" -> €/a | G34: Cost | O34: Income
C35: Generator - GN | D35: Electricity, fixed tariff - EF | E35: =Cover_Sheet!$C$50&"/(kW a)" -> €/(kW a) | J35: =Table35[[#This Row],[Resources - Cost]] -> Electricity, fixed tariff - EF | K35: =D36 -> Electricity, variable tariff - EV | L35: =D37 -> Natural Gas - NG | M35: =D38 -> Fuel Oil - FO | N35: =D39 -> Diesel - DI | O35: Solar Power Generation - PV | P35: Wind Power Generation - WT | Q35: Co-generation (CHP) - CG
C36: Fuel Cell System - FC | D36: Electricity, variable tariff - EV | E36: =Cover_Sheet!$C$50&"/a" -> €/a | G36: Demand rate | H36: Demand rate, size specific | I36: =Cover_Sheet!$C$50&"/kWh/a" -> €/kWh/a | J36: 0 | K36: 0 | L36: 0 | M36: 0 | N36: 0 | O36: - | P36: - | Q36: -
C37: Heat Pump - HP | D37: Natural Gas - NG | E37: % CAPEX | G37: kWh-rate | H37: kWh-rate, peak | I37: =Cover_Sheet!$C$50&"/kWh" -> €/kWh | J37: 0.28 | K37: 0.29 | L37: 0.05 | M37: 0.045 | N37: 0.1 | O37: - | P37: - | Q37: -
C38: Motoric CHP System - MC | D38: Fuel Oil - FO | E38: 1/h | G38: kWh-rate | H38: kWh-rate,non- peak | I38: =Cover_Sheet!$C$50&"/kWh" -> €/kWh | J38: - | K38: 0.25 | L38: - | M38: - | N38: - | O38: - | P38: - | Q38: -
C39: Electric Heater - EH | D39: Diesel - DI | E39: 1/d | G39: kWh-rate time | H39: Peak time in | I39: h | J39: - | K39: 6 | L39: - | M39: - | N39: - | O39: - | P39: - | Q39: -
C40: Heating Boiler - HB | D40: === Resources - Income === | E40: 1/30d | G40: kWh-rate time | H40: Peak time out | I40: h | J40: - | K40: 22 | L40: - | M40: - | N40: - | O40: - | P40: - | Q40: -
...

Sheet Resources
D1: Diesel - DI | E1: Electricity, fixed tariff - EF | F1: Electricity, variable tariff - EV | G1: === Resources - Income ===
A2: Demand rate | B2: Demand rate, size specific | C2: =Hide!$I36 -> €/kWh/a | D2: =IF($D$1=Hide!$J$35,Hide!J36,IF($D$1=Hide!$K$35,Hide!K36,IF($D$1=Hide!$L$35,Hide!L36,IF($D$1=Hide!$M$35,Hide!M36, IF($D$1=Hide!$N$35,Hide!N36,IF($D$1=Hide!$O$35,Hide!O36,IF($D$1=Hide!$P$35,Hide!P36,IF($D$1=Hide!$P$35,Hide!P36,IF($D$1=Hide!$Q$35,Hide!Q36,"N/A"))))))))) -> 0 | E2: =IF($E$1=Hide!$J$35,Hide!J36,IF($E$1=Hide!$K$35,Hide!K36,IF($E$1=Hide!$L$35,Hide!L36,IF($E$1=Hide!$M$35,Hide!M36,IF($E$1=Hide!$N$35,Hide!N36,IF($E$1=Hide!$O$35,Hide!O36,IF($E$1=Hide!$P$35,Hide!P36,IF($E$1=Hide!$P$35,Hide!P36,IF($E$1=Hide!$Q$35,Hide!Q36,"N/A"))))))))) -> 0 | F2: =IF($F$1=Hide!$J$35,Hide!J36,IF($F$1=Hide!$K$35,Hide!K36,IF($F$1=Hide!$L$35,Hide!L36,IF($F$1=Hide!$M$35,Hide!M36,IF($F$1=Hide!$N$35,Hide!N36,IF($F$1=Hide!$O$35,Hide!O36,IF($F$1=Hide!$P$35,Hide!P36,IF($F$1=Hide!$P$35,Hide!P36,IF($F$1=Hide!$Q$35,Hide!Q36,"N/A"))))))))) -> 0 | G2: =IF($G$1=Hide!$J$35,Hide!J36,IF($G$1=Hide!$K$35,Hide!K36,IF($G$1=Hide!$L$35,Hide!L36,IF($G$1=Hide!$M$35,Hide!M36,IF($G$1=Hide!$N$35,Hide!N36,IF($G$1=Hide!$O$35,Hide!O36,IF($G$1=Hide!$P$35,Hide!P36,IF($G$1=Hide!$P$35,Hide!P36,IF($G$1=Hide!$Q$35,Hide!Q36,"N/A"))))))))) -> N/A
A3: kWh-rate | B3: kWh-rate, peak hours | C3: =Hide!$I37 -> €/kWh | D3: =IF($D$1=Hide!$J$35,Hide!J37,IF($D$1=Hide!$K$35,Hide!K37,IF($D$1=Hide!$L$35,Hide!L37,IF($D$1=Hide!$M$35,Hide!M37, IF($D$1=Hide!$N$35,Hide!N37,IF($D$1=Hide!$O$35,Hide!O37,IF($D$1=Hide!$P$35,Hide!P37,IF($D$1=Hide!$P$35,Hide!P37,IF($D$1=Hide!$Q$35,Hide!Q37,"N/A"))))))))) -> 0.1 | E3: =IF($E$1=Hide!$J$35,Hide!J37,IF($E$1=Hide!$K$35,Hide!K37,IF($E$1=Hide!$L$35,Hide!L37,IF($E$1=Hide!$M$35,Hide!M37,IF($E$1=Hide!$N$35,Hide!N37,IF($E$1=Hide!$O$35,Hide!O37,IF($E$1=Hide!$P$35,Hide!P37,IF($E$1=Hide!$P$35,Hide!P37,IF($E$1=Hide!$Q$35,Hide!Q37,"N/A"))))))))) -> 0.28 | F3: =IF($F$1=Hide!$J$35,Hide!J37,IF($F$1=Hide!$K$35,Hide!K37,IF($F$1=Hide!$L$35,Hide!L37,IF($F$1=Hide!$M$35,Hide!M37,IF($F$1=Hide!$N$35,Hide!N37,IF($F$1=Hide!$O$35,Hide!O37,IF($F$1=Hide!$P$35,Hide!P37,IF($F$1=Hide!$P$35,Hide!P37,IF($F$1=Hide!$Q$35,Hide!Q37,"N/A"))))))))) -> 0.29 | G3: =IF($G$1=Hide!$J$35,Hide!J37,IF($G$1=Hide!$K$35,Hide!K37,IF($G$1=Hide!$L$35,Hide!L37,IF($G$1=Hide!$M$35,Hide!M37,IF($G$1=Hide!$N$35,Hide!N37,IF($G$1=Hide!$O$35,Hide!O37,IF($G$1=Hide!$P$35,Hide!P37,IF($G$1=Hide!$P$35,Hide!P37,IF($G$1=Hide!$Q$35,Hide!Q37,"N/A"))))))))) -> N/A
A4: kWh-rate | B4: kWh-rate, off-peak | C4: =Hide!$I38 -> €/kWh | D4: =IF($D$1=Hide!$J$35,Hide!J38,IF($D$1=Hide!$K$35,Hide!K38,IF($D$1=Hide!$L$35,Hide!L38,IF($D$1=Hide!$M$35,Hide!M38, IF($D$1=Hide!$N$35,Hide!N38,IF($D$1=Hide!$O$35,Hide!O38,IF($D$1=Hide!$P$35,Hide!P38,IF($D$1=Hide!$P$35,Hide!P38,IF($D$1=Hide!$Q$35,Hide!Q38,"N/A"))))))))) -> - | E4: =IF($E$1=Hide!$J$35,Hide!J38,IF($E$1=Hide!$K$35,Hide!K38,IF($E$1=Hide!$L$35,Hide!L38,IF($E$1=Hide!$M$35,Hide!M38,IF($E$1=Hide!$N$35,Hide!N38,IF($E$1=Hide!$O$35,Hide!O38,IF($E$1=Hide!$P$35,Hide!P38,IF($E$1=Hide!$P$35,Hide!P38,IF($E$1=Hide!$Q$35,Hide!Q38,"N/A"))))))))) -> - | F4: =IF($F$1=Hide!$J$35,Hide!J38,IF($F$1=Hide!$K$35,Hide!K38,IF($F$1=Hide!$L$35,Hide!L38,IF($F$1=Hide!$M$35,Hide!M38,IF($F$1=Hide!$N$35,Hide!N38,IF($F$1=Hide!$O$35,Hide!O38,IF($F$1=Hide!$P$35,Hide!P38,IF($F$1=Hide!$P$35,Hide!P38,IF($F$1=Hide!$Q$35,Hide!Q38,"N/A"))))))))) -> 0.25 | G4: =IF($G$1=Hide!$J$35,Hide!J38,IF($G$1=Hide!$K$35,Hide!K38,IF($G$1=Hide!$L$35,Hide!L38,IF($G$1=Hide!$M$35,Hide!M38,IF($G$1=Hide!$N$35,Hide!N38,IF($G$1=Hide!$O$35,Hide!O38,IF($G$1=Hide!$P$35,Hide!P38,IF($G$1=Hide!$P$35,Hide!P38,IF($G$1=Hide!$Q$35,Hide!Q38,"N/A"))))))))) -> N/A
